BEGIN:VCALENDAR
VERSION:2.0
PRODID:-//ChamberMaster//Event Calendar 2.0//EN
METHOD:PUBLISH
X-PUBLISHED-TTL:P3D
REFRESH-INTERVAL:P3D
CALSCALE:GREGORIAN
BEGIN:VEVENT
DTSTART:20141127T170000Z
DTEND:20141128T000000Z
X-MICROSOFT-CDO-ALLDAYEVENT:FALSE
SUMMARY:Annual Family Thanksgiving Buffet
DESCRIPTION:The annual Thanksgiving Buffet at Brasstown Valley Resort will begin at noon until 7pm. Reservations are currently being accepted so please call early to reserve your time and table. A copy of the full menu can be found on our web site at www.brasstownvalley.com or contact our dining room @ 706-379-4617 for more information
X-ALT-DESC;FMTTYPE=text/html:The annual Thanksgiving Buffet at Brasstown Valley Resort will begin at noon until 7pm. Reservations are currently being accepted so please call early to reserve your time and table. A copy of the full menu can be found on our web site at www.brasstownvalley.com or contact our dining room @ 706-379-4617 for more information
LOCATION:The Dining Room @ Brasstown Valley Resort
UID:e.256.27581
SEQUENCE:3
DTSTAMP:20260424T033832Z
URL:https://members.visitblairsvillega.com/events/details/annual-family-thanksgiving-buffet-11-27-2014-27581
END:VEVENT

END:VCALENDAR
