BEGIN:VCALENDAR
VERSION:2.0
PRODID:-//ChamberMaster//Event Calendar 2.0//EN
METHOD:PUBLISH
X-PUBLISHED-TTL:P3D
REFRESH-INTERVAL:P3D
CALSCALE:GREGORIAN
BEGIN:VEVENT
DTSTART:20150822T203000Z
DTEND:20150823T000000Z
X-MICROSOFT-CDO-ALLDAYEVENT:FALSE
SUMMARY:Annual Harvest Dinner @ The Sawmill Place
DESCRIPTION:The Sawmill Place Annual Harvest Dinner will take place Saturday night\, August 22\, 4:30 - 8:00pm.   The dinner will feature a harvest driven menu showcasing locally grown food and flavors.  Visit our website to see our planned menu at http://www.sawmillplace.com/harvestdinner. \n\nCall (706) 745-1250 to make a reservation.
X-ALT-DESC;FMTTYPE=text/html:The Sawmill Place Annual Harvest Dinner will take place Saturday night\, August 22\, 4:30 - 8:00pm.&nbsp\;&nbsp\; The dinner will feature a harvest driven menu showcasing locally grown food and flavors.&nbsp\; Visit our website to see our planned menu at <a href="http://www.sawmillplace.com/harvestdinner" target="_blank">http://www.sawmillplace.com/harvestdinner.</a>&nbsp\;<br />\nCall (706) 745-1250 to make a reservation.&nbsp\;
LOCATION:1150 Pat Haralson Drive
UID:e.256.41371
SEQUENCE:3
DTSTAMP:20260423T151319Z
URL:https://members.visitblairsvillega.com/events/details/annual-harvest-dinner-the-sawmill-place-08-22-2015-41371
END:VEVENT

END:VCALENDAR
