BEGIN:VCALENDAR
VERSION:2.0
PRODID:-//ChamberMaster//Event Calendar 2.0//EN
METHOD:PUBLISH
X-PUBLISHED-TTL:P3D
REFRESH-INTERVAL:P3D
CALSCALE:GREGORIAN
BEGIN:VEVENT
DTSTART:20161015T150000Z
DTEND:20161015T220000Z
X-MICROSOFT-CDO-ALLDAYEVENT:FALSE
SUMMARY:Annual Harvest Festival
DESCRIPTION:The Annual Crane Creek Vineyards Harvest Festival is a time to celebrate the end of another great harvest! Come celebrate with CCV staff with wine tastings\, grape stomping\, tours of the winery and live music!
X-ALT-DESC;FMTTYPE=text/html:The Annual Crane Creek Vineyards Harvest Festival is a time to celebrate the end of another great harvest! Come celebrate with CCV staff with wine tastings\, grape stomping\, tours of the winery and live music!
LOCATION:Crane Creek Vineyards 916 Crane Creek Road Young Harris\, GA 30582
UID:e.256.51259
SEQUENCE:3
DTSTAMP:20260420T131307Z
URL:https://members.visitblairsvillega.com/events/details/annual-harvest-festival-10-15-2016-51259
END:VEVENT

END:VCALENDAR
