BEGIN:VCALENDAR
VERSION:2.0
PRODID:-//ChamberMaster//Event Calendar 2.0//EN
METHOD:PUBLISH
X-PUBLISHED-TTL:P3D
REFRESH-INTERVAL:P3D
CALSCALE:GREGORIAN
BEGIN:VEVENT
DTSTART:20141025T150000Z
DTEND:20141025T220000Z
X-MICROSOFT-CDO-ALLDAYEVENT:FALSE
SUMMARY:Annual Harvest Festival at Crane Creek Vineyards
DESCRIPTION:Annual Harvest Festival\n\nat Crane Creek Vineyards\n\nYoung Harris\, GA\n\n11am - 6pm\n\n\n\nLive Music\, Wine\, & Food\n\n\n\nGrape Stomping\, Hayrides\, Vintner Tours\, Wine Tasting\, Great Food and more...\n\nLive Music performed by: Gnarly Fingers
X-ALT-DESC;FMTTYPE=text/html:<em><strong>Annual Harvest Festival<br />\nat Crane Creek Vineyards</strong></em><br />\n<em><strong>Young Harris\, GA<br />\n11am - 6pm<br />\n<br />\nLive Music\, Wine\, &amp\; Food<br />\n<br />\nGrape Stomping\, Hayrides\, Vintner Tours\, Wine Tasting\, Great Food and more...<br />\nLive Music performed by: Gnarly Fingers</strong></em>
LOCATION:Crane Creek Vineyards Young Harris\, GA
UID:e.256.27530
SEQUENCE:3
DTSTAMP:20260424T045740Z
URL:https://members.visitblairsvillega.com/events/details/annual-harvest-festival-at-crane-creek-vineyards-10-25-2014-27530
END:VEVENT

END:VCALENDAR
