BEGIN:VCALENDAR
VERSION:2.0
PRODID:-//ChamberMaster//Event Calendar 2.0//EN
METHOD:PUBLISH
X-PUBLISHED-TTL:P3D
REFRESH-INTERVAL:P3D
CALSCALE:GREGORIAN
BEGIN:VEVENT
DTSTART:20141011T130000Z
DTEND:20141011T180000Z
X-MICROSOFT-CDO-ALLDAYEVENT:FALSE
SUMMARY:Annual Harvest Festival at First United Methodist Church of Union County
DESCRIPTION:First United Methodist Church of Union County Annual Harvest Festival\n\nOctober 10th & 11th\n\n938 Hwy. 515\n\nBlairsville\, GA\n\n\n\nA variety of crafts will be sold in the gym (MAC)\, treasures will be sold in the annex\, and a scrumptious barbeque dinner will be available. Craft hours are Friday 9 am till 3 pm\; Saturday 9 am till 2 pm. BBQ plates are $7.00. BBQ will be sold Friday from 11 am till 4 pm\; Saturday 11 am till 2 pm.\n\nCome check out all the possibilities!\n\nVisit their Yard Sale in the building behind the church\n\nFriday - 9am - 3pm\n\nSaturday - 11am - 2pm
X-ALT-DESC;FMTTYPE=text/html:<p>First United Methodist Church of Union County Annual Harvest Festival<br />\nOctober 10th &amp\; 11th<br />\n938 Hwy. 515<br />\nBlairsville\, GA<br />\n<br />\nA variety of crafts will be sold in the gym (MAC)\, treasures will be sold in the annex\, and a scrumptious barbeque dinner will be available. Craft hours are Friday 9 am till&nbsp\;3 pm\; Saturday 9 am till&nbsp\;2 pm. BBQ plates are $7.00. BBQ will be sold Friday from 11 am till 4 pm\; Saturday 11 am till 2 pm.<br />\nCome check out all the possibilities!</p>\n\n<p>Visit their Yard Sale in the building behind the church<br />\nFriday - 9am - 3pm<br />\nSaturday - 11am - 2pm<br />\n&nbsp\;</p>\n
LOCATION:First United Methodist Church 938 Hwy 515 Blairsville\, GA
UID:e.256.27523
SEQUENCE:3
DTSTAMP:20260424T045849Z
URL:https://members.visitblairsvillega.com/events/details/annual-harvest-festival-at-first-united-methodist-church-of-union-county-10-11-2014-27523
END:VEVENT

END:VCALENDAR
