BEGIN:VCALENDAR
VERSION:2.0
PRODID:-//ChamberMaster//Event Calendar 2.0//EN
METHOD:PUBLISH
X-PUBLISHED-TTL:P3D
REFRESH-INTERVAL:P3D
CALSCALE:GREGORIAN
BEGIN:VEVENT
DTSTART:20151128T150000Z
DTEND:20151128T220000Z
X-MICROSOFT-CDO-ALLDAYEVENT:FALSE
SUMMARY:Annual Holiday Arts & Crafts Show
DESCRIPTION:The annual Holiday Arts & Crafts Show at Brasstown Valley Resort in Young Harris has become the place to be on "Black Friday" Need to do some holiday shopping? No need to stress over traffic and parking. This juried festival show will feature over 15 different categories of artist and crafters during the three day event. These items are certified as home made and there is no doubt that you will find a unique item for that special person on your gift list. There is no charge to attend this indoor event and the show will be held rain or shine. Parking is free
X-ALT-DESC;FMTTYPE=text/html:The annual Holiday Arts &amp\; Crafts Show at Brasstown Valley Resort in Young Harris has become the place to be on "Black Friday" Need to do some holiday shopping? No need to stress over traffic and parking. This juried festival show will feature over 15 different categories of artist and crafters during the three day event. These items are certified as home made and there is no doubt that you will find a unique item for that special person on your gift list. There is no charge to attend this indoor event and the show will be held rain or shine. Parking is free
LOCATION:Brasstown Valley Resort & Spa Young Harris GA
UID:e.256.44266
SEQUENCE:3
DTSTAMP:20260423T085539Z
URL:https://members.visitblairsvillega.com/events/details/annual-holiday-arts-crafts-show-11-28-2015-44266
END:VEVENT

END:VCALENDAR
