BEGIN:VCALENDAR
VERSION:2.0
PRODID:-//ChamberMaster//Event Calendar 2.0//EN
METHOD:PUBLISH
X-PUBLISHED-TTL:P3D
REFRESH-INTERVAL:P3D
CALSCALE:GREGORIAN
BEGIN:VEVENT
DTSTART:20151114T150000Z
DTEND:20151114T210000Z
X-MICROSOFT-CDO-ALLDAYEVENT:FALSE
SUMMARY:Annual Holiday Craft Show
DESCRIPTION:Local crafts people will greet you with hand-crafted creations including wildlife carvings\, unique birdhouses\, baskets\, fiber arts\, natural soap & candles\, wood accessories & carvings\, jewelry (sterling silver\, contemporary\, bead\, & Native American)\, and more.    Peachtree Community Center is well-lit\, neat\, and warm with clean restrooms and plenty of parking.  Breakfast\, lunch\, and snacks prepared by club members will be available for purchase throughout the day.  The event will be advertised on local radio stations\, in all local papers\, in various local church bulletins and newsletters\, and with the Chamber of Commerce.
X-ALT-DESC;FMTTYPE=text/html:<span style="font-family: &quot\;Calibri&quot\;\,&quot\;sans-serif&quot\;\; font-size: 11pt\; mso-fareast-font-family: Calibri\; mso-fareast-theme-font: minor-latin\; mso-bidi-font-family: &quot\;Times New Roman&quot\;\; mso-ansi-language: EN-US\; mso-fareast-language: EN-US\; mso-bidi-language: AR-SA\;"><strong><font color="#000000">Local crafts people will greet you with hand-crafted creations including wildlife carvings\, unique birdhouses\, baskets\, fiber arts\, natural soap &amp\; candles\, wood accessories &amp\; carvings\, jewelry (sterling silver\, contemporary\, bead\, &amp\; Native American)\, and more.&nbsp\;&nbsp\;&nbsp\; </font></strong></span><span style="font-size: 14pt\;"><span style="font-family: comic sans ms\;">Peachtree Community Center is well-lit\, neat\, and warm with clean restrooms and plenty of parking.&nbsp\; Breakfast\, lunch\, and snacks prepared by club members will be available for purchase throughout the day.&nbsp\; The event will be advertised on local radio stations\, in all local papers\, in various local church bulletins and newsletters\, and with the Chamber of Commerce.&nbsp\; </span></span><br />\n&nbsp\;<br />\n&nbsp\;
LOCATION:Peachtree Community Center\, located just off Greenlawn Cemetery Road on Memory Lane\, near Murphy
UID:e.256.44334
SEQUENCE:3
DTSTAMP:20260423T085403Z
URL:https://members.visitblairsvillega.com/events/details/annual-holiday-craft-show-11-14-2015-44334
END:VEVENT

END:VCALENDAR
