BEGIN:VCALENDAR
VERSION:2.0
PRODID:-//ChamberMaster//Event Calendar 2.0//EN
METHOD:PUBLISH
X-PUBLISHED-TTL:P3D
REFRESH-INTERVAL:P3D
CALSCALE:GREGORIAN
BEGIN:VEVENT
DTSTART:20150613T120000Z
DTEND:20150613T160000Z
X-MICROSOFT-CDO-ALLDAYEVENT:FALSE
SUMMARY:Annual Kids Fishing Rodeo
DESCRIPTION:Kids 12 and younger come enjoy a day catching trout stocked in Wolf Creek. Prizes will be awarded to children holding lucky tickets.
X-ALT-DESC;FMTTYPE=text/html:Kids 12 and younger come enjoy a day catching trout stocked in Wolf Creek. Prizes will be awarded to children holding lucky tickets.
LOCATION:Vogel State Park
UID:e.256.38089
SEQUENCE:3
DTSTAMP:20260423T165814Z
URL:https://members.visitblairsvillega.com/events/details/annual-kids-fishing-rodeo-06-13-2015-38089
END:VEVENT

END:VCALENDAR
