BEGIN:VCALENDAR
VERSION:2.0
PRODID:-//ChamberMaster//Event Calendar 2.0//EN
METHOD:PUBLISH
X-PUBLISHED-TTL:P3D
REFRESH-INTERVAL:P3D
CALSCALE:GREGORIAN
BEGIN:VEVENT
DTSTART:20140218T164500Z
DTEND:20140218T180000Z
X-MICROSOFT-CDO-ALLDAYEVENT:FALSE
SUMMARY:Annual Membership Meeting & STAR Presentation
DESCRIPTION:Blairsville-Union County Chamber of Commerce\n\n	Annual Membership Meeting \n\n	"STAR Student/STAR Teacher Presentation"\n\n	\n\n	Presenting Sponsor: Budget Blinds\n\n	 \n\n	    2013 Review/2014 Overview\n\n	\n\n	    STAR Student/STAR Teacher Presentation\n\n	\n\n	    Lunch provided by The View Grill\n\n	Be the first to receive your copy of the new Community Magazine!\n\n	Table Sponsors\n\n	Knitter's Knitch\n\n	Background Screening & Security Solutions\n\n	Waffle House\n\n	Bears Productions\n\n	North Georgia Technical College\n\n	Jeff Davis State Farm\n\n	Service Plumbing & Septic\n\n	Mary Kay Cosmetics - Roberta L. Ford\n\n	Coosa Creek Marketing Products\n\n	Union County Anti-Drug Coalition\n\n	M-Design - Marcie Culpepper\n\n	United Community Bank\n\n	The Bearding Bottle Shop\n\n	Re/Max Town & Country\n\n	 \n\n	\n\n	We are almost SOLD OUT! To confirm seating availability call the Chamber office at 706-745-5789.\n\n	If you plan to attend\, please R.S.V.P. by Friday\, February 14th to reserve your space. Payment in advance is requested.\n\n	\n\n	Member businesses become a table Sponsor for $50 per table.\n\n	Sponsorship benefits include: \n\n	2 Complimentary Meeting Tickets\n\n	Company Display on Table\n\n	Chamber Newsletter Publicity\n\n	Publicity Sponsor Logo on Event Page\n\n	Sponsors are requested to provide a Door Prize.\n\n	A prize will be awarded to the sponsor voted "Most Creative Table" by those attending.\n\n	\n\n	For more information email info@blairsvillechamber.com or phone 706-745-5789.\n\n	We look forward to seeing you at this exciting event!
X-ALT-DESC;FMTTYPE=text/html:<p style="text-align: center\;">\n	<span style="font-family: tahoma\;"><span style="font-size: 12px\;"><span style="font-size: 10pt\;"><span style="font-family: calisto mt\,serif\;"><span style="color: rgb(34\, 34\, 34)\;">Blairsville-Union County Chamber of Commerce</span></span></span></span></span><br />\n	<span style="font-family: tahoma\;"><span style="font-size: 12px\;"><span style="font-size: 10pt\;"><span style="font-family: calisto mt\,serif\;"><span style="color: rgb(34\, 34\, 34)\;">Annual Membership Meeting&nbsp\;<br />\n	&quot\;STAR Student/STAR Teacher Presentation&quot\;</span></span></span></span></span><br />\n	<br />\n	<strong><span style="font-family: tahoma\;"><span style="font-size: 12px\;"><span style="font-size: 10pt\;"><span style="font-family: calisto mt\,serif\;"><span style="color: rgb(34\, 34\, 34)\;">Presenting Sponsor: Budget Blinds</span></span></span></span></span></strong><br />\n	&nbsp\;</p>\n<p>\n	<span style="font-family: tahoma\;"><span style="font-size: 12px\;"><span style="font-size: 10pt\;"><span style="font-family: calisto mt\,serif\;"><span style="color: rgb(34\, 34\, 34)\;">&nbsp\;&nbsp\;&nbsp\;&nbsp\;2013 Review/2014 Overview</span></span></span></span></span><br />\n	<br />\n	<span style="font-family: tahoma\;"><span style="font-size: 12px\;"><span style="font-size: 10pt\;"><span style="font-family: calisto mt\,serif\;"><span style="color: rgb(34\, 34\, 34)\;">&nbsp\;&nbsp\;&nbsp\;</span></span></span></span></span><font face="Calisto MT" size="2">&nbsp\;STAR Student/STAR Teacher Presentation<br />\n	<br />\n	<font face="Calisto MT" size="2">&nbsp\;&nbsp\;&nbsp\;&nbsp\;Lunch provided by The View Grill</font></font></p>\n<p>\n	<span style="font-family: tahoma\;"><span style="font-size: 12px\;"><span style="font-size: 10pt\;"><span style="font-family: calisto mt\,serif\;"><span style="color: rgb(34\, 34\, 34)\;">Be the first to receive your copy of the new Community Magazine!</span></span></span></span></span></p>\n<p style="text-align: center\;">\n	<span style="font-size: 14px\;"><span style="font-family: arial\;"><u>Table Sponsors</u><br />\n	<span style="color: rgb(255\, 0\, 0)\;"><strong>Knitter&#39\;s Knitch<br />\n	Background Screening &amp\; Security Solutions<br />\n	Waffle House</strong></span><br />\n	<strong><font color="#ff0000">Bears Productions<br />\n	North Georgia Technical College<br />\n	Jeff Davis State Farm<br />\n	Service Plumbing&nbsp\;&amp\; Septic</font><br />\n	<span style="color: rgb(255\, 0\, 0)\;">Mary Kay Cosmetics - Roberta L. Ford<br />\n	Coosa Creek Marketing Products<br />\n	Union County Anti-Drug Coalition<br />\n	M-Design - Marcie Culpepper<br />\n	United Community Bank<br />\n	The Bearding Bottle Shop<br />\n	Re/Max Town &amp\; Country</span></strong></span></span><br />\n	&nbsp\;</p>\n<p>\n	<br />\n	<span style="font-family: tahoma\;"><span style="font-size: 12px\;"><span style="font-size: 10pt\;"><span style="font-family: calisto mt\,serif\;"><span style="color: rgb(34\, 34\, 34)\;">We are almost SOLD OUT! To&nbsp\;confirm seating availability call the Chamber office at 706-745-5789.<br />\n	If you plan to attend\, please R.S.V.P. by Friday\, February 14th</span> to reserve your space. Payment in advance is requested.</span></span><br />\n	<br />\n	<span style="font-size: 10pt\;"><span style="font-family: calisto mt\,serif\;"><span style="color: rgb(34\, 34\, 34)\;"><span style="font-size: 10pt\;"><span style="font-family: calisto mt\,serif\;"><span style="color: rgb(34\, 34\, 34)\;">Member businesses become a table Sponsor for $50 per table.<br />\n	<span style="font-size: 14px\;"><em><strong>Sponsorship benefits include: </strong></em></span><br />\n	2 Complimentary Meeting Tickets<br />\n	Company Display on Table<br />\n	Chamber Newsletter Publicity<br />\n	Publicity Sponsor Logo on Event Page<br />\n	Sponsors are requested to provide a Door Prize.<br />\n	<span style="font-family: tahoma\;"><strong><em>A prize will be awarded to the sponsor voted &quot\;<u>Most Creative Table</u>&quot\; by those attending.</em></strong></span><br />\n	<br />\n	For more information email info@blairsvillechamber.com or phone 706-745-5789.<br />\n	<strong><span style="font-weight: normal\;"><span style="font-family: calisto mt\,serif\;">We look forward to seeing you at this exciting event!</span></span></strong></span></span></span></span></span></span></span></span><br />\n	<br />\n	&nbsp\;</p>\n
LOCATION:Union County Community Center 129 Union County Recreation Rd Blairsville\, GA
UID:e.256.22019
SEQUENCE:3
DTSTAMP:20260424T180631Z
URL:https://members.visitblairsvillega.com/events/details/annual-membership-meeting-star-presentation-02-18-2014-22019
END:VEVENT

END:VCALENDAR
