BEGIN:VCALENDAR
VERSION:2.0
PRODID:-//ChamberMaster//Event Calendar 2.0//EN
METHOD:PUBLISH
X-PUBLISHED-TTL:P3D
REFRESH-INTERVAL:P3D
CALSCALE:GREGORIAN
BEGIN:VEVENT
DTSTART:20160528T120000Z
DTEND:20160528T180000Z
X-MICROSOFT-CDO-ALLDAYEVENT:FALSE
SUMMARY:Annual *Memorial Day YARD SALE* in the Parking Lot
DESCRIPTION:The BIG\, GREAT YARD SALE is almost here!! Black and White Antiques say "Don't miss this one -- It's the ones your friends tell you about!!! Tons and tons of great stuff at super great prices! We buy out estates and have a lot of left over stuff that never ends up in the store\, strictly saved for the yard sale! We also have several other people set up with stuff from home\, sales\, and even some items from the store pulled out and drastically marked down!
X-ALT-DESC;FMTTYPE=text/html:The BIG\, GREAT YARD SALE is almost here!! Black and White Antiques say &quot\;Don&#39\;t miss this one -- It&#39\;s the ones your friends tell you about!!! Tons and tons of great stuff at super great prices! We buy out estates and have a lot of left over stuff that never ends up in the store\, strictly saved for the yard sale! We also have several other people set up with stuff from home\, sales\, and even some items from the store pulled out and drastically marked down!
LOCATION:Black & White Antiques parking lot
UID:e.256.51268
SEQUENCE:3
DTSTAMP:20260420T223455Z
URL:https://members.visitblairsvillega.com/events/details/annual-memorial-day-yard-sale-in-the-parking-lot-05-28-2016-51268
END:VEVENT

END:VCALENDAR
