BEGIN:VCALENDAR
VERSION:2.0
PRODID:-//ChamberMaster//Event Calendar 2.0//EN
METHOD:PUBLISH
X-PUBLISHED-TTL:P3D
REFRESH-INTERVAL:P3D
CALSCALE:GREGORIAN
BEGIN:VEVENT
DTSTART:20140607T140000Z
DTEND:20140607T170000Z
X-MICROSOFT-CDO-ALLDAYEVENT:FALSE
SUMMARY:Annual Nature Inspires Garden Tour and Open House
DESCRIPTION:Nature Inspires Garden Tour and Open House for Saturday\, June 7\, 2014 from 10:00 am   1:00 pm.\n\n \n\n	Guided Tours of the Ethnobotanic Gardens and Medicine Trail\n	Arts & Crafts and Music Inspired by Nature\n	Edible and Medicinal Plant Demonstrations\n	Tours of the Historic Community Cannery and Native Plant Interpretive Center\n\nThis event is free to the public!
X-ALT-DESC;FMTTYPE=text/html:<span style="font-family:\;"><font color="#000000">Nature Inspires Garden Tour and Open House for Saturday\, June 7\, 2014 from 10:00 am &ndash\; 1:00 pm.</font></span><br />\n&nbsp\;\n<ul>\n	<li><span style="font-family:\;"><font color="#000000">Guided Tours of the Ethnobotanic Gardens and Medicine Trail</font></span></li>\n	<li><span style="font-family:\;"><font color="#000000">Arts &amp\; Crafts and Music Inspired by Nature</font></span></li>\n	<li><span style="font-family:\;"><font color="#000000">Edible and Medicinal Plant Demonstrations</font></span></li>\n	<li><span style="font-family:\;"><font color="#000000">Tours of the Historic Community Cannery and Native Plant Interpretive Center</font></span></li>\n</ul>\n<span style="font-family:\;"><font color="#000000">This event is free to the public!</font></span><br />\n&nbsp\;
LOCATION:GA Mountain Research and Education Center 195 GA. Mountain Experiment Station Road Blairsville\, GA
UID:e.256.19682
SEQUENCE:3
DTSTAMP:20260424T122735Z
URL:https://members.visitblairsvillega.com/events/details/annual-nature-inspires-garden-tour-and-open-house-06-07-2014-19682
END:VEVENT

END:VCALENDAR
