BEGIN:VCALENDAR
VERSION:2.0
PRODID:-//ChamberMaster//Event Calendar 2.0//EN
METHOD:PUBLISH
X-PUBLISHED-TTL:P3D
REFRESH-INTERVAL:P3D
CALSCALE:GREGORIAN
BEGIN:VEVENT
DTSTART:20150917T180000Z
DTEND:20150917T203000Z
X-MICROSOFT-CDO-ALLDAYEVENT:FALSE
SUMMARY:Annual Recovery Celebration Event
DESCRIPTION:MedMark Treatment Centers Blairsville invites all to attend the Annual Recovery Celebration Event.  MedMark Treatment will provide beverages\, snacks and cake\, free of charge for all attendees.  The Recovery Walk will be from 3:00 - 4:00 pm\, in recognition of the many individuals working on their recovery to maintain a drug free lifestyle.  Open to the public and all are welcome.
X-ALT-DESC;FMTTYPE=text/html:MedMark Treatment Centers Blairsville invites all to attend the Annual Recovery Celebration Event.&nbsp\; MedMark Treatment will provide beverages\, snacks and cake\, free of charge for all attendees.&nbsp\; The Recovery Walk will be from 3:00 - 4:00 pm\, in recognition of the many individuals working on their recovery to maintain a drug free lifestyle.&nbsp\; Open to the public and all are welcome.
LOCATION:Meeks Park Pavilion #3.
UID:e.256.43928
SEQUENCE:3
DTSTAMP:20260423T121724Z
URL:https://members.visitblairsvillega.com/events/details/annual-recovery-celebration-event-09-17-2015-43928
END:VEVENT

END:VCALENDAR
