BEGIN:VCALENDAR
VERSION:2.0
PRODID:-//ChamberMaster//Event Calendar 2.0//EN
METHOD:PUBLISH
X-PUBLISHED-TTL:P3D
REFRESH-INTERVAL:P3D
CALSCALE:GREGORIAN
BEGIN:VEVENT
DTSTART:20150919T140000Z
DTEND:20150920T210000Z
X-MICROSOFT-CDO-ALLDAYEVENT:FALSE
SUMMARY:Annual "Ride the Rails" Festival
DESCRIPTION:Tri-State Model Railroaders are hosting this Festival with Motor Car and Hand Car rides as well as crafts\, food and "Trains for Kids" fun.
X-ALT-DESC;FMTTYPE=text/html:Tri-State Model Railroaders are hosting this Festival with Motor Car and Hand Car rides as well as crafts\, food and &quot\;Trains for Kids&quot\; fun.
LOCATION:At the Historic Mineral Bluff Depot at: 150 Railroad Ave Mineral Bluff GA
UID:e.256.41341
SEQUENCE:3
DTSTAMP:20260423T134304Z
URL:https://members.visitblairsvillega.com/events/details/annual-ride-the-rails-festival-09-19-2015-41341
END:VEVENT

END:VCALENDAR
