BEGIN:VCALENDAR
VERSION:2.0
PRODID:-//ChamberMaster//Event Calendar 2.0//EN
METHOD:PUBLISH
X-PUBLISHED-TTL:P3D
REFRESH-INTERVAL:P3D
CALSCALE:GREGORIAN
BEGIN:VEVENT
DTSTART:20140816T113000Z
DTEND:20140816T113000Z
X-MICROSOFT-CDO-ALLDAYEVENT:FALSE
SUMMARY:Annual Sadie Hawkins Golf Tournament
DESCRIPTION:Annual Sadie Hawkins Tournament\n\nSaturday\, August 16\, 2014\n\nButternut Creek Golf Course\n\nFormat will be 'Select Shot' between you and your partner. Cost is $55 per person. Prizes will be to flight winners and closest to pins. Registration and breakfast starts @ 7:30am in upstairs Banquet Room. Tee Time @ 8:30am. Lunch will be provided in the upstairs Banquet Room after play.\n\nDeadline to sign up is August 11.
X-ALT-DESC;FMTTYPE=text/html:Annual Sadie Hawkins Tournament<br />\nSaturday\, August 16\, 2014<br />\nButternut Creek Golf Course<br />\nFormat will be &#39\;Select Shot&#39\; between you and your partner. Cost is $55 per person. Prizes will be to flight winners and closest to pins. Registration and breakfast starts @ 7:30am in upstairs Banquet Room. Tee Time @ 8:30am. Lunch will be provided in the upstairs Banquet Room after play.<br />\n<strong>Deadline to sign up is August 11.</strong>
LOCATION:Butternut Creek Golf Course 129 Union County Rec Rd Blairsville
UID:e.256.25474
SEQUENCE:3
DTSTAMP:20260424T073929Z
URL:https://members.visitblairsvillega.com/events/details/annual-sadie-hawkins-golf-tournament-08-16-2014-25474
END:VEVENT

END:VCALENDAR
