BEGIN:VCALENDAR
VERSION:2.0
PRODID:-//ChamberMaster//Event Calendar 2.0//EN
METHOD:PUBLISH
X-PUBLISHED-TTL:P3D
REFRESH-INTERVAL:P3D
CALSCALE:GREGORIAN
BEGIN:VEVENT
DTSTART:20151126T160000Z
DTEND:20151126T190000Z
X-MICROSOFT-CDO-ALLDAYEVENT:FALSE
SUMMARY:Annual Thanksgiving Outreach
DESCRIPTION:Neighbor's Hand is excited to host our Annual Thanksgiving Outreach for Union County. Last year we handed out 594 meals\, this year we expect to increase that to 800+ meals. That's 52 turkeys!\n\nThanksgiving meals are fully cooked and individually packaged with the following items:\n\n  Turkey\n\n  Dressing\n\n  Cranberry Sauce\n\n  Mashed Potatoes and Gravy\n\n  Sweet Potatoes\n\n  Roll\n\n  Dessert (Pumpkin Pie or Brownie for kids)\n\nWe will be preparing meals for delivery\, dine-in or carry out.
X-ALT-DESC;FMTTYPE=text/html:<p style="text-align: left\;">Neighbor&rsquo\;s Hand is excited to host our Annual Thanksgiving Outreach for Union County. Last year we handed out 594 meals\, this year we expect to increase that to 800+ meals. That&rsquo\;s 52 turkeys!</p>\n\n<p style="text-align: left\;">Thanksgiving meals are fully cooked and individually packaged with the following items:<br />\n&ndash\; Turkey<br />\n&ndash\; Dressing<br />\n&ndash\; Cranberry Sauce<br />\n&ndash\; Mashed Potatoes and Gravy<br />\n&ndash\; Sweet Potatoes<br />\n&ndash\; Roll<br />\n&ndash\; Dessert (Pumpkin Pie or Brownie for kids)</p>\n\n<p style="text-align: left\;">We will be preparing meals for delivery\, dine-in or carry out.</p>\n
LOCATION:House of Prayer Family Life Center 1400 Pat Colwell Rd\, Blairsville.
UID:e.256.45010
SEQUENCE:3
DTSTAMP:20260423T085510Z
URL:https://members.visitblairsvillega.com/events/details/annual-thanksgiving-outreach-11-26-2015-45010
END:VEVENT

END:VCALENDAR
