BEGIN:VCALENDAR
VERSION:2.0
PRODID:-//ChamberMaster//Event Calendar 2.0//EN
METHOD:PUBLISH
X-PUBLISHED-TTL:P3D
REFRESH-INTERVAL:P3D
CALSCALE:GREGORIAN
BEGIN:VEVENT
DTSTART:20141203T223000Z
DTEND:20141203T233000Z
X-MICROSOFT-CDO-ALLDAYEVENT:FALSE
SUMMARY:Anxiety & PTSD Class
DESCRIPTION:Christy Owen\, M.A.\, professional counselor will be heading this class with topics that will include:\n\nIdentifying causes of PTSD\n\nRecognizing risks & symptoms\n\nStress reactions to primary & secondary PTSD\n\nTreatment options\n\nSuicide\n\nAttachment disturbances\n\nChildhood trauma & fears\n\nOppositional behavior manifestations\n\nSelf-preservation/Defense
X-ALT-DESC;FMTTYPE=text/html:<div style="color: gray\;"><span style="color: rgb(0\, 0\, 0)\;">Christy Owen\, M.A.\, professional counselor will be heading this class with topics that will include:</span></div>\n\n<p style="color: gray\;"><span style="color: rgb(0\, 0\, 0)\;">Identifying causes of PTSD<br />\nRecognizing risks &amp\; symptoms<br />\nStress reactions to primary &amp\; secondary PTSD<br />\nTreatment options<br />\nSuicide<br />\nAttachment disturbances<br />\nChildhood trauma &amp\; fears<br />\nOppositional behavior manifestations<br />\nSelf-preservation/Defense</span></p>\n
LOCATION:Union General Hospital Main Conference Room on 1st floor(Across from Cafeteria)
UID:e.256.28029
SEQUENCE:3
DTSTAMP:20260424T020004Z
URL:https://members.visitblairsvillega.com/events/details/anxiety-ptsd-class-12-03-2014-28029
END:VEVENT

END:VCALENDAR
