BEGIN:VCALENDAR
VERSION:2.0
PRODID:-//ChamberMaster//Event Calendar 2.0//EN
METHOD:PUBLISH
X-PUBLISHED-TTL:P3D
REFRESH-INTERVAL:P3D
CALSCALE:GREGORIAN
BEGIN:VEVENT
DTSTART:20170505T160000Z
DTEND:20170505T220000Z
X-MICROSOFT-CDO-ALLDAYEVENT:FALSE
SUMMARY:Appalachian Food and Wine Trail
DESCRIPTION:Travel the 515 Highway corridor of the Blue Ridge mountains and enjoy the tastes of 4 wineries\, food & wine.\n\n\n\nEach different location/vineyard will include 1/2 glass of wine paired with a delicious appetizer.\n\nPrice $30 Passport.\n\n\n\nMenu includes:\n\nPulled Pork slider with coleslaw - Odom Springs' Earl's Reserve\, red wine\n\nFig & Goat cheese torte - Paradise Hills' Starry Night\, white wine\n\nSmoked Trout mousse - Crane Creek's Villard Noir\, rose'\n\nMushroom Arancini - Hightower Creek's Deliverence\, red wine\n\n\n\nDon't miss this new experience... this region's best has to offer!
X-ALT-DESC;FMTTYPE=text/html:<span style="color:rgb(75\, 79\, 86)\; font-family:san francisco\,-apple-system\,blinkmacsystemfont\,.sfnstext-regular\,sans-serif\; font-size:14px">Travel the 515 Highway corridor of the Blue Ridge mountains and enjoy the tastes of 4 wineries\, food &amp\; wine.</span><br>\n<br>\n<span style="color:rgb(75\, 79\, 86)\; font-family:san francisco\,-apple-system\,blinkmacsystemfont\,.sfnstext-regular\,sans-serif\; font-size:14px">Each different location/vineyard will include 1/2 glass of wine paired with a delicious appetizer.</span><br>\n<span style="color:rgb(75\, 79\, 86)\; font-family:san francisco\,-apple-system\,blinkmacsystemfont\,.sfnstext-regular\,sans-serif\; font-size:14px">Price $30 Passport.</span><br>\n<br>\n<span style="color:rgb(75\, 79\, 86)\; font-family:san francisco\,-apple-system\,blinkmacsystemfont\,.sfnstext-regular\,sans-serif\; font-size:14px">Menu includes:</span><br>\n<span style="color:rgb(75\, 79\, 86)\; font-family:san francisco\,-apple-system\,blinkmacsystemfont\,.sfnstext-regular\,sans-serif\; font-size:14px">Pulled Pork slider with coleslaw - Odom Springs' Earl's Reserve\, red wine</span><br>\n<span style="color:rgb(75\, 79\, 86)\; font-family:san francisco\,-apple-system\,blinkmacsystemfont\,.sfnstext-regular\,sans-serif\; font-size:14px">Fig &amp\; Goat cheese torte - Paradise Hills' Starry Night\, white wine</span><br>\n<span style="color:rgb(75\, 79\, 86)\; font-family:san francisco\,-apple-system\,blinkmacsystemfont\,.sfnstext-regular\,sans-serif\; font-size:14px">Smoked Trout mousse - Crane Creek's Villard Noir\, rose'</span><br>\n<span style="color:rgb(75\, 79\, 86)\; font-family:san francisco\,-apple-system\,blinkmacsystemfont\,.sfnstext-regular\,sans-serif\; font-size:14px">Mushroom Arancini - Hightower Creek's Deliverence\, red wine</span><br>\n<br>\n<span style="color:rgb(75\, 79\, 86)\; font-family:san francisco\,-apple-system\,blinkmacsystemfont\,.sfnstext-regular\,sans-serif\; font-size:14px">Don't miss this new experience... this region's best has to offer!</span>
LOCATION:7150 Canaan Drive Hiawassee\, GA 30546
UID:e.256.71775
SEQUENCE:3
DTSTAMP:20260420T010232Z
URL:https://members.visitblairsvillega.com/events/details/appalachian-food-and-wine-trail-71775
END:VEVENT

END:VCALENDAR
