BEGIN:VCALENDAR
VERSION:2.0
PRODID:-//ChamberMaster//Event Calendar 2.0//EN
METHOD:PUBLISH
X-PUBLISHED-TTL:P3D
REFRESH-INTERVAL:P3D
CALSCALE:GREGORIAN
BEGIN:VEVENT
DTSTART:20160621T140000Z
DTEND:20160621T190000Z
X-MICROSOFT-CDO-ALLDAYEVENT:FALSE
SUMMARY:Appalachian Regional Commission Pre-Application Workshops
DESCRIPTION:The Georgia Department of Community Affairs   Appalachian Regional Commission invests funds in community and economic development activities in the 37-county Georgia ARC region. Attend a pre-application workshop to learn the specifics of successful applications\, innovations across the 13-state ARC region\, and successes and best practices in Georgia.\n\nPriority areas for investment include:\n\n          Promoting a ready workforce by improving the education\, knowledge\, skills\, and health of residents to work and succeed in Appalachia.\n\n          Creating economic opportunity through entrepreneur assistance and business development strategies.\n\n          Strengthening Appalachia's community and economic development potential by leveraging the Region's natural and cultural heritage assets.\n\n  \n\n Eligible Applicants:\n\n          Local governments\n\n          Registered economic/industrial development\, downtown development\, hospital and other authorities in Georgia\n\n          Educational institutions\n\n          Healthcare institutions\n\n          Non-profit organizations
X-ALT-DESC;FMTTYPE=text/html:<span style="color: black\;"><span style="font-size: medium\;"><span style="font-family: calibri\;">The Georgia Department of Community Affairs &ndash\; Appalachian Regional Commission invests funds in community and economic development activities in the </span></span><a href="http://www.georgiaplanning.com/documents/atlas/ARC_gacounties.pdf"><span style="font-size: medium\;"><span style="font-family: calibri\;"><span style="color: rgb(5\, 99\, 193)\;">37-county Georgia ARC region</span></span></span></a><span style="font-size: medium\;"><span style="font-family: calibri\;">. Attend a pre-application workshop to learn the specifics of successful applications\, innovations across the 13-state ARC region\, and successes and best practices in Georgia.</span></span></span><br />\n<span style="font-family: calibri\;"><strong><span style="font-size: 10.5pt\;"><span style="color: black\;">Priority areas for investment include:</span></span></strong></span><br />\n<span style="color: black\;"><span style="font-size: medium\;"><span style="font-family: calibri\;">&middot\;&nbsp\;&nbsp\;&nbsp\;&nbsp\;&nbsp\;&nbsp\;&nbsp\;&nbsp\; Promoting a ready workforce by improving the education\, knowledge\, skills\, and health of residents to work and succeed in Appalachia.</span></span></span><br />\n<span style="font-size: medium\;"><span style="font-family: calibri\;"><span style="color: black\;">&middot\;&nbsp\;&nbsp\;&nbsp\;&nbsp\;&nbsp\;&nbsp\;&nbsp\;&nbsp\; Creating economic opportunity through entrepreneur assistance and business development strategies.</span></span></span><br />\n<span style="font-size: medium\;"><span style="font-family: calibri\;"><span style="color: black\;">&middot\;&nbsp\;&nbsp\;&nbsp\;&nbsp\;&nbsp\;&nbsp\;&nbsp\;&nbsp\; </span><span style="background: white\;"><span style="color: black\;">Strengthening Appalachia&rsquo\;s community and economic development potential by leveraging the Region&#39\;s natural and cultural heritage assets.</span></span></span></span><br />\n<span style="color: black\;"><span style="font-size: medium\;"><span style="font-family: calibri\;">&nbsp\;&nbsp\;</span></span></span><br />\n<span style="font-size: medium\;"><span style="font-family: calibri\;">&nbsp\;</span></span><span style="font-size: medium\;"><span style="font-family: calibri\;"><strong><span style="color: black\;">Eligible Applicants:</span></strong></span></span><br />\n<span style="color: black\;"><span style="font-size: medium\;"><span style="font-family: calibri\;">&middot\;&nbsp\;&nbsp\;&nbsp\;&nbsp\;&nbsp\;&nbsp\;&nbsp\;&nbsp\; Local governments</span></span></span><br />\n<span style="color: black\;"><span style="font-size: medium\;"><span style="font-family: calibri\;">&middot\;&nbsp\;&nbsp\;&nbsp\;&nbsp\;&nbsp\;&nbsp\;&nbsp\;&nbsp\; Registered economic/industrial development\, downtown development\, hospital and other authorities in Georgia</span></span></span><br />\n<span style="color: black\;"><span style="font-size: medium\;"><span style="font-family: calibri\;">&middot\;&nbsp\;&nbsp\;&nbsp\;&nbsp\;&nbsp\;&nbsp\;&nbsp\;&nbsp\; Educational institutions</span></span></span><br />\n<span style="color: black\;"><span style="font-size: medium\;"><span style="font-family: calibri\;">&middot\;&nbsp\;&nbsp\;&nbsp\;&nbsp\;&nbsp\;&nbsp\;&nbsp\;&nbsp\; Healthcare institutions</span></span></span><br />\n<span style="color: black\;"><span style="font-size: medium\;"><span style="font-family: calibri\;">&middot\;&nbsp\;&nbsp\;&nbsp\;&nbsp\;&nbsp\;&nbsp\;&nbsp\;&nbsp\; Non-profit organizations</span></span></span><br />\n&nbsp\;
LOCATION:June 21 Blairsville Union County Community Center 129 County Recreation Rd Blairsville 30512
UID:e.256.51237
SEQUENCE:3
DTSTAMP:20260420T202804Z
URL:https://members.visitblairsvillega.com/events/details/appalachian-regional-commission-pre-application-workshops-06-21-2016-51237
END:VEVENT

END:VCALENDAR
