BEGIN:VCALENDAR
VERSION:2.0
PRODID:-//ChamberMaster//Event Calendar 2.0//EN
METHOD:PUBLISH
X-PUBLISHED-TTL:P3D
REFRESH-INTERVAL:P3D
CALSCALE:GREGORIAN
BEGIN:VEVENT
DTSTART:20170323T170000Z
DTEND:20170323T180000Z
X-MICROSOFT-CDO-ALLDAYEVENT:FALSE
SUMMARY:Appalachian Trail Communities
DESCRIPTION:Blairsville-Union County is one of 40 communities along the Appalachian Trail designated as an Appalachian Trail Community. We are proud of this designation and understand the importance of this treasure in our back yard. The economic impact of the day hikers\, section hikers\, and thru hikers can be significant to a community when we see the Trail as a resource and an asset. Please join us for an informational meeting regarding Appalachian Trail Community Supporters.
X-ALT-DESC;FMTTYPE=text/html:Blairsville-Union County is one of 40 communities along the Appalachian Trail designated as an Appalachian Trail Community. We are proud of this designation and understand the importance of this treasure in our back yard. The economic impact of the day hikers\, section hikers\, and thru hikers can be significant to a community when we see the Trail as a resource and an asset. Please join us for an informational meeting regarding Appalachian Trail Community Supporters.
LOCATION:Union County Community Center
UID:e.256.69246
SEQUENCE:3
DTSTAMP:20260420T042218Z
URL:https://members.visitblairsvillega.com/events/details/appalachian-trail-communities-69246
END:VEVENT

END:VCALENDAR
