BEGIN:VCALENDAR
VERSION:2.0
PRODID:-//ChamberMaster//Event Calendar 2.0//EN
METHOD:PUBLISH
X-PUBLISHED-TTL:P3D
REFRESH-INTERVAL:P3D
CALSCALE:GREGORIAN
BEGIN:VEVENT
DTSTART:20140613T160000Z
DTEND:20140613T230000Z
X-MICROSOFT-CDO-ALLDAYEVENT:FALSE
SUMMARY:Appalachian Wine\, Jazz\, & Arts Festival
DESCRIPTION:Appalachian Wine\, Jazz\, & Arts Festival at the Georgia Mountain Fairgrounds in Hiawassee\, GA. from 12 - 7pm. Admission is $30.00 per person per day and includes a souvenir glass\, jazz music\, and tastings of four wines from each of 15 participating wineries. Children under 12 free.
X-ALT-DESC;FMTTYPE=text/html:Appalachian Wine\, Jazz\, &amp\; Arts Festival at the Georgia Mountain Fairgrounds in Hiawassee\, GA. from 12 - 7pm. Admission is $30.00 per person per day and includes a souvenir glass\, jazz music\, and tastings of four wines from each of 15 participating wineries. Children under 12 free.
LOCATION:Georgia Mountain Fairgrounds Hiawassee\, GA
UID:e.256.24767
SEQUENCE:3
DTSTAMP:20260424T122112Z
URL:https://members.visitblairsvillega.com/events/details/appalachian-wine-jazz-arts-festival-06-13-2014-24767
END:VEVENT

END:VCALENDAR
