BEGIN:VCALENDAR
VERSION:2.0
PRODID:-//ChamberMaster//Event Calendar 2.0//EN
METHOD:PUBLISH
X-PUBLISHED-TTL:P3D
REFRESH-INTERVAL:P3D
CALSCALE:GREGORIAN
BEGIN:VEVENT
DTSTART:20151017T130000Z
DTEND:20151017T180000Z
X-MICROSOFT-CDO-ALLDAYEVENT:FALSE
SUMMARY:Apple Picking at Mercier's Limo Tour
DESCRIPTION:It's Fall Ya'll and time to go apple picking! What better place to do so but at Mercier's Orchards? Pick apples\, sample cider & wine\, or get some of their infamous fried pies!
X-ALT-DESC;FMTTYPE=text/html:<span style="font-size:14px\;"><span style="background: white none repeat scroll 0% 0%\;"><span style="color: rgb(51\, 51\, 51)\;"><span style="font-family: comic sans ms\;">It&rsquo\;s Fall Ya&rsquo\;ll and time to go apple picking! What better place to do so but at Mercier&rsquo\;s Orchards? </span></span></span><span style="background: white none repeat scroll 0% 0%\;"><span style="color: rgb(51\, 51\, 51)\;"><span style="font-family: comic sans ms\;">Pick apples\, sample cider &amp\; wine\, or get some of their infamous fried pies!</span></span></span></span>
LOCATION:Pick up at Blairsville Park & Ride
UID:e.256.44324
SEQUENCE:3
DTSTAMP:20260423T103645Z
URL:https://members.visitblairsvillega.com/events/details/apple-picking-at-mercier-s-limo-tour-10-17-2015-44324
END:VEVENT

END:VCALENDAR
