BEGIN:VCALENDAR
VERSION:2.0
PRODID:-//ChamberMaster//Event Calendar 2.0//EN
METHOD:PUBLISH
X-PUBLISHED-TTL:P3D
REFRESH-INTERVAL:P3D
CALSCALE:GREGORIAN
BEGIN:VEVENT
DTSTART:20180209T200000Z
DTEND:20180209T213000Z
X-MICROSOFT-CDO-ALLDAYEVENT:FALSE
SUMMARY:Apple Tree Pruning Seminar
DESCRIPTION:Apple Day at the Georgia Mountain Research & Education Center The Community Council of the GMRE Center is offering a three-part series on growing apples for homeowners. In this second session\, Apple Tree Pruning\, Dr. Tom Kon\, North Carolina State University Assistant Professor\, Southeastern Apple Research Specialist. Pruning theory and pruning techniques will be discussed in our auditorium\, followed by a hands-on demonstration and workshop in the GMREC orchard. This orchard session will require walking outdoors on hills and uneven surfaces. Dress appropriately for the weather.
X-ALT-DESC;FMTTYPE=text/html:Apple Day at the Georgia Mountain Research &amp\; Education Center The Community Council of the GMRE Center is offering a three-part series on growing apples for homeowners. In this second session\, Apple Tree Pruning\, Dr. Tom Kon\, North Carolina State University Assistant Professor\, Southeastern Apple Research Specialist. Pruning theory and pruning techniques will be discussed in our auditorium\, followed by a hands-on demonstration and workshop in the GMREC orchard. This orchard session will require walking outdoors on hills and uneven surfaces. Dress appropriately for the weather.
LOCATION:The Georgia Mountain Research & Education Center auditorium and orchard\, 3 miles south of the Blairsville Square\, on the east side of Hwy 19/129.
UID:e.256.77356
SEQUENCE:3
DTSTAMP:20260419T124719Z
URL:https://members.visitblairsvillega.com/events/details/apple-tree-pruning-seminar-77356
END:VEVENT

END:VCALENDAR
