BEGIN:VCALENDAR
VERSION:2.0
PRODID:-//ChamberMaster//Event Calendar 2.0//EN
METHOD:PUBLISH
X-PUBLISHED-TTL:P3D
REFRESH-INTERVAL:P3D
CALSCALE:GREGORIAN
BEGIN:VEVENT
DTSTART:20140520T233000Z
DTEND:20140521T010000Z
X-MICROSOFT-CDO-ALLDAYEVENT:FALSE
SUMMARY:Appreciation Drop In
DESCRIPTION:I want to personally invite you to an "Appreciation Drop In" that I am having next Tuesday evening\, May 20th.  It will be from 7:30 PM to 9:00 PM at Cadence Bank. \n\n \n\nWhether we have talked\, e-mailed\, or met in person\, I appreciate all the support that I have been given during this campaign and am grateful for folks like yourself.  There is no better way to cap off the last several weeks than for Jacque and me to spend a few minutes with you that evening to personally thank you for your support.  Please do drop by.\n\n \n\nIf you haven't voted yet\, please either vote this week or next Tuesday.  There are several races in our local area that will be completely decided in the primary election next Tuesday rather than the general election in the fall.  Mine is one of those races as well.\n\n \n\nPlease also encourage your friends and neighbors to vote.\n\n-Tsali Bentley
X-ALT-DESC;FMTTYPE=text/html:<span style="font-size: medium\;"><span style="font-family: times new roman\;">I want to personally invite you to an <strong>&quot\;Appreciation Drop In&quot\; </strong>that I am having next <strong>Tuesday evening\, May 20th.&nbsp\; It will be&nbsp\;from 7:30 PM to 9:00 PM at Cadence Bank</strong>.&nbsp\;</span></span><br />\n&nbsp\;<br />\n<span style="font-size: medium\;"><span style="font-family: times new roman\;">Whether we have talked\, e-mailed\, or met in person\,&nbsp\;I appreciate all the support that I have been given during this campaign and am grateful for folks like yourself.&nbsp\; There is no better way to cap off the last several weeks than for Jacque and me&nbsp\;to spend a few minutes with you that evening to personally thank you for your support.&nbsp\; Please do drop by.</span></span><br />\n&nbsp\;<br />\n<span style="font-size: medium\;"><span style="font-family: times new roman\;">If you haven&#39\;t voted yet\, please either vote this week or next Tuesday.&nbsp\; There are several races in our local area&nbsp\;that will be completely decided in the primary&nbsp\;election next Tuesday rather than the general election in the fall.&nbsp\; Mine is one of those races as well.</span></span><br />\n&nbsp\;<br />\n<span style="font-size: medium\;"><span style="font-family: times new roman\;">Please also encourage your friends and neighbors to vote.<br />\n-Tsali Bentley</span></span><br />\n&nbsp\;
LOCATION:Cadence Bank
UID:e.256.24460
SEQUENCE:3
DTSTAMP:20260424T120140Z
URL:https://members.visitblairsvillega.com/events/details/appreciation-drop-in-05-20-2014-24460
END:VEVENT

END:VCALENDAR
