BEGIN:VCALENDAR
VERSION:2.0
PRODID:-//ChamberMaster//Event Calendar 2.0//EN
METHOD:PUBLISH
X-PUBLISHED-TTL:P3D
REFRESH-INTERVAL:P3D
CALSCALE:GREGORIAN
BEGIN:VEVENT
DTSTART:20140320T150000Z
DTEND:20140321T003000Z
X-MICROSOFT-CDO-ALLDAYEVENT:FALSE
SUMMARY:Appreciation Week Blairsville Hospital & Nursing Home Staff
DESCRIPTION:25 % off Lunch or Dinner for Blairsville Hospital and Nursing Home Staff
X-ALT-DESC;FMTTYPE=text/html:25 % off Lunch or Dinner for Blairsville&nbsp\;Hospital and Nursing Home Staff
LOCATION:Ollie's Grill & Smokehouse 94 Town Square Blairsville\, GA 30512
UID:e.256.23264
SEQUENCE:3
DTSTAMP:20260424T153335Z
URL:https://members.visitblairsvillega.com/events/details/appreciation-week-blairsville-hospital-nursing-home-staff-03-20-2014-23264
END:VEVENT

END:VCALENDAR
