BEGIN:VCALENDAR
VERSION:2.0
PRODID:-//ChamberMaster//Event Calendar 2.0//EN
METHOD:PUBLISH
X-PUBLISHED-TTL:P3D
REFRESH-INTERVAL:P3D
CALSCALE:GREGORIAN
BEGIN:VEVENT
DTSTART:20140314T150000Z
DTEND:20140315T004000Z
X-MICROSOFT-CDO-ALLDAYEVENT:FALSE
SUMMARY:Appreciation Week Blairsville/Union Co gov employees
DESCRIPTION:25 % off lunch or dinner for Blairsville and Union County Government employees (other than Police and Fire-fighters)
X-ALT-DESC;FMTTYPE=text/html:25 % off lunch or dinner for Blairsville and Union County Government employees (other than Police and Fire-fighters)
LOCATION:Ollie's Grill & Smokehouse 94 Town Square Blairsville\, GA 30512
UID:e.256.23258
SEQUENCE:3
DTSTAMP:20260424T153137Z
URL:https://members.visitblairsvillega.com/events/details/appreciation-week-blairsville-union-co-gov-employees-03-14-2014-23258
END:VEVENT

END:VCALENDAR
