BEGIN:VCALENDAR
VERSION:2.0
PRODID:-//ChamberMaster//Event Calendar 2.0//EN
METHOD:PUBLISH
X-PUBLISHED-TTL:P3D
REFRESH-INTERVAL:P3D
CALSCALE:GREGORIAN
BEGIN:VEVENT
DTSTART:20140329T150000Z
DTEND:20140330T004500Z
X-MICROSOFT-CDO-ALLDAYEVENT:FALSE
SUMMARY:Appreciation Week Blairville/Union Co Educators
DESCRIPTION:25% off dinner or lunch for employees of Union County Educators.
X-ALT-DESC;FMTTYPE=text/html:25% off dinner or lunch for employees of Union County Educators.
LOCATION:Ollie's Grill & Smokehouse 94 Town Square Blairsville\, GA 30512
UID:e.256.23280
SEQUENCE:3
DTSTAMP:20260424T152135Z
URL:https://members.visitblairsvillega.com/events/details/appreciation-week-blairville-union-co-educators-03-29-2014-23280
END:VEVENT

END:VCALENDAR
