BEGIN:VCALENDAR
VERSION:2.0
PRODID:-//ChamberMaster//Event Calendar 2.0//EN
METHOD:PUBLISH
X-PUBLISHED-TTL:P3D
REFRESH-INTERVAL:P3D
CALSCALE:GREGORIAN
BEGIN:VEVENT
DTSTART:20150328T233000Z
DTEND:20150329T010000Z
X-MICROSOFT-CDO-ALLDAYEVENT:FALSE
SUMMARY:AristoCats
DESCRIPTION:What's a cat to do? In Disney's The Aristocats\, Madame's jealous butler Edgar cat-naps Duchess and her Aristokittens and abandons them in the Parisian countryside. Luckily\, Thomas O'Malley and his rag-tag bunch of alley cats come to their rescue! This feline adventure\, based on the Disney film\, is sure to get audiences tapping their feet to its upbeat\, jazzy score that includes the Disney favorites "The Aristocats\," "Scales and Arpeggios" and "Ev'rybody Wants to Be a Cat." Presented by the Overlook Theatre Company
X-ALT-DESC;FMTTYPE=text/html:What&#39\;s a cat to do? In Disney&#39\;s The Aristocats\, Madame&#39\;s jealous butler Edgar cat-naps Duchess and her Aristokittens and abandons them in the Parisian countryside. Luckily\, Thomas O&#39\;Malley and his rag-tag bunch of alley cats come to their rescue! This feline adventure\, based on the Disney film\, is sure to get audiences tapping their feet to its upbeat\, jazzy score that includes the Disney favorites &quot\;The Aristocats\,&quot\; &quot\;Scales and Arpeggios&quot\; and &quot\;Ev&#39\;rybody Wants to Be a Cat.&quot\; Presented by the Overlook Theatre Company
LOCATION:Smoky Mountain Center for the Performing Arts 1028 Georgia Road Franklin\, NC 28734
UID:e.256.37645
SEQUENCE:3
DTSTAMP:20260423T211616Z
URL:https://members.visitblairsvillega.com/events/details/aristocats-03-28-2015-37645
END:VEVENT

END:VCALENDAR
