BEGIN:VCALENDAR
VERSION:2.0
PRODID:-//ChamberMaster//Event Calendar 2.0//EN
METHOD:PUBLISH
X-PUBLISHED-TTL:P3D
REFRESH-INTERVAL:P3D
CALSCALE:GREGORIAN
BEGIN:VEVENT
DTSTART:20160521T150000Z
DTEND:20160521T160000Z
X-MICROSOFT-CDO-ALLDAYEVENT:FALSE
SUMMARY:Armed Forces Day
DESCRIPTION:The Armed Forces Day ceremony is to honor and remember the men and women who are bound by oath and duty to serve and protect the United States of America.  Tie a yellow ribbon in honor of your loved one serving in the military.
X-ALT-DESC;FMTTYPE=text/html:The Armed Forces Day ceremony is to honor and remember the men and women who are bound by oath and duty to serve and protect the United States of America.&nbsp\; Tie a yellow ribbon in honor of your loved one serving in the military.
LOCATION:Downtown on the Square\, Blairsville
UID:e.256.45178
SEQUENCE:3
DTSTAMP:20260420T222244Z
URL:https://members.visitblairsvillega.com/events/details/armed-forces-day-05-21-2016-45178
END:VEVENT

END:VCALENDAR
