BEGIN:VCALENDAR
VERSION:2.0
PRODID:-//ChamberMaster//Event Calendar 2.0//EN
METHOD:PUBLISH
X-PUBLISHED-TTL:P3D
REFRESH-INTERVAL:P3D
CALSCALE:GREGORIAN
BEGIN:VEVENT
DTSTART:20141011T180000Z
DTEND:20141011T210000Z
X-MICROSOFT-CDO-ALLDAYEVENT:FALSE
SUMMARY:Art Workshop
DESCRIPTION:Bring your playful and creative side to this Art Workshop. This class is meant to be as much fun as instructional and you're encouraged to wear play clothes! All supplies included.
X-ALT-DESC;FMTTYPE=text/html:<span style="font-family:calibri\,sans-serif\;"><span style="font-size:11.0pt\;">Bring your playful and creative side to this Art Workshop. This class is meant to be as much fun as instructional and you&#39\;re encouraged to wear play clothes!</span></span> <span style="font-family:calibri\,sans-serif\;"><span style="font-size:11.0pt\;">All supplies included.</span></span><br />\n&nbsp\;
LOCATION:Inspire Art Studio 51 Earnest St. Suite C
UID:e.256.27525
SEQUENCE:3
DTSTAMP:20260424T045027Z
URL:https://members.visitblairsvillega.com/events/details/art-workshop-10-11-2014-27525
END:VEVENT

END:VCALENDAR
