BEGIN:VCALENDAR
VERSION:2.0
PRODID:-//ChamberMaster//Event Calendar 2.0//EN
METHOD:PUBLISH
X-PUBLISHED-TTL:P3D
REFRESH-INTERVAL:P3D
CALSCALE:GREGORIAN
BEGIN:VEVENT
DTSTART:20170103T150000Z
DTEND:20170103T230000Z
X-MICROSOFT-CDO-ALLDAYEVENT:FALSE
SUMMARY:Artist in Residence: Connie Gaertner
DESCRIPTION:Connie Gaertner\, our 4th quarter Artist in Residence\, is an award winning artist from Knoxville\, TN.  Her love and passion of the outdoors is reflected in her plein air paintings\, but she is just as comfortable with her studio work as well.  Connie is a juried member of The American Impressionist Society\, Oil Painters of America\, and Women Painters of the Southeast.
X-ALT-DESC;FMTTYPE=text/html:<span style="font-size:12pt"><span style="font-family:adobe caslon pro bold\,serif">Connie Gaertner\, our 4<sup>th</sup> quarter Artist in Residence\, is an award winning artist from Knoxville\, TN.&nbsp\; Her love and passion of the outdoors is reflected in her plein air paintings\, but she is just as comfortable with her studio work as well.&nbsp\; Connie is a juried member of The American Impressionist Society\, Oil Painters of America\, and Women Painters of the Southeast.&nbsp\; </span></span>
LOCATION:The Art Center 420 West Main Street Blue Ridge\, GA 30513
UID:e.256.59548
SEQUENCE:3
DTSTAMP:20260420T075633Z
URL:https://members.visitblairsvillega.com/events/details/artist-in-residence-connie-gaertner-01-03-2017-59548
END:VEVENT

END:VCALENDAR
