BEGIN:VCALENDAR
VERSION:2.0
PRODID:-//ChamberMaster//Event Calendar 2.0//EN
METHOD:PUBLISH
X-PUBLISHED-TTL:P3D
REFRESH-INTERVAL:P3D
CALSCALE:GREGORIAN
BEGIN:VEVENT
DTSTART:20160723T140000Z
DTEND:20160723T220000Z
X-MICROSOFT-CDO-ALLDAYEVENT:FALSE
SUMMARY:Artist-in-Residence\, Rhonda Roddy: "I Laugh in My Dreams" Art Exhibit
DESCRIPTION:Expressionist painter and mixed media artist\, Rhonda Roddy presents artwork that is truly one-of-a-kind\, filled with brilliant colors\, fantastic imagery\, compelling themes and engaging textures. Entitled ?I Laugh in my Dreams\,? Rhonda?s Artist-In-Residence exhibit encourages the idea of letting go of preconceived notions of what art (and life) should be\, and allowing authenticity to shine through instead.  Opening reception will be July 30\, 5-7pm.
X-ALT-DESC;FMTTYPE=text/html:<span style="font-size: 12pt\;"><span style="font-family: adobe caslon pro bold\,serif\;"><span style="color: black\;">Expressionist painter and mixed media artist\, Rhonda Roddy presents artwork that is truly one-of-a-kind\, filled with brilliant colors\, fantastic imagery\, compelling themes and engaging textures. Entitled ?I Laugh in my Dreams\,? Rhonda?s Artist-In-Residence exhibit encourages the idea of letting go of preconceived notions of what art (and life) should be\, and allowing authenticity to shine through instead.&nbsp\; </span></span></span><span style="font-size: 12pt\;"><span style="font-family: adobe caslon pro bold\,serif\;">Opening reception will be July 30\, 5-7pm.</span></span><br />\n&nbsp\;
LOCATION:The Art Center (Blue Ridge Mountains Arts Association) 420 West Main Street Blue Ridge\, GA 30513
UID:e.256.53826
SEQUENCE:3
DTSTAMP:20260420T184757Z
URL:https://members.visitblairsvillega.com/events/details/artist-in-residence-rhonda-roddy-i-laugh-in-my-dreams-art-exhibit-07-23-2016-53826
END:VEVENT

END:VCALENDAR
