BEGIN:VCALENDAR
VERSION:2.0
PRODID:-//ChamberMaster//Event Calendar 2.0//EN
METHOD:PUBLISH
X-PUBLISHED-TTL:P3D
REFRESH-INTERVAL:P3D
CALSCALE:GREGORIAN
BEGIN:VEVENT
DTSTART:20150304T150000Z
DTEND:20150304T230000Z
X-MICROSOFT-CDO-ALLDAYEVENT:FALSE
SUMMARY:Artist-in-Residence\, Robyn Cappelli
DESCRIPTION:Enjoy Robyn's beautiful paintings of flowers\, landscapes\, rustic barns and more during her Artist-in-Residence at the Art Center through March 28. Opening Reception is Saturday\, January 17\, 5-7pm.   Member workshop March 14   Free to Members\, $25 for non-members\n\nContact information: blueridgearts@gmail.com.
X-ALT-DESC;FMTTYPE=text/html:<span style="font-size:12pt"><span style="font-family:adobe caslon pro bold\,serif">Enjoy Robyn&rsquo\;s beautiful paintings of flowers\, landscapes\, rustic barns and more during her Artist-in-Residence at the Art Center through March 28. <strong>Opening Reception is Saturday\, January 17\, 5-7pm</strong>. &nbsp\;&nbsp\;Member workshop March 14 &ndash\; Free to Members\, $25 for non-members</span></span><br />\n<span style="font-size:12pt"><span style="font-family:adobe caslon pro bold\,serif">Contact information: blueridgearts@gmail.com.</span></span><br />\n&nbsp\;
LOCATION:Blue Ridge Mountains Arts Association/The Art Center
UID:e.256.34699
SEQUENCE:3
DTSTAMP:20260423T212128Z
URL:https://members.visitblairsvillega.com/events/details/artist-in-residence-robyn-cappelli-03-04-2015-34699
END:VEVENT

END:VCALENDAR
