BEGIN:VCALENDAR
VERSION:2.0
PRODID:-//ChamberMaster//Event Calendar 2.0//EN
METHOD:PUBLISH
X-PUBLISHED-TTL:P3D
REFRESH-INTERVAL:P3D
CALSCALE:GREGORIAN
BEGIN:VEVENT
DTSTART:20170309T150000Z
DTEND:20170309T230000Z
X-MICROSOFT-CDO-ALLDAYEVENT:FALSE
SUMMARY:Artist in Residence: Sally Arnold
DESCRIPTION:Sally Arnold is a distinguished encaustic artist who not only creates beautiful works of art\, but who expresses feelings and moods with her art as well. Her work leaves a lasting impression on the viewer's mind and heart. Come see this versatile artist's array of creativity during her artist-in-residency at the Art Center.
X-ALT-DESC;FMTTYPE=text/html:<span style="font-size:12pt"><span style="font-family:adobe caslon pro bold\,serif">Sally Arnold is a distinguished encaustic artist who not only creates beautiful works of art\, but who expresses feelings and moods with her art as well. Her work leaves a lasting impression on the viewer&rsquo\;s mind and heart. Come see this versatile artist&rsquo\;s array of creativity during her artist-in-residency at the Art Center. </span></span>
LOCATION:The Art Center 420 West Main Street Blue Ridge\, GA 30513
UID:e.256.64222
SEQUENCE:3
DTSTAMP:20260420T060511Z
URL:https://members.visitblairsvillega.com/events/details/artist-in-residence-sally-arnold-03-09-2017-64222
END:VEVENT

END:VCALENDAR
