BEGIN:VCALENDAR
VERSION:2.0
PRODID:-//ChamberMaster//Event Calendar 2.0//EN
METHOD:PUBLISH
X-PUBLISHED-TTL:P3D
REFRESH-INTERVAL:P3D
CALSCALE:GREGORIAN
BEGIN:VEVENT
DTSTART:20141024T140000Z
DTEND:20141024T210000Z
X-MICROSOFT-CDO-ALLDAYEVENT:FALSE
SUMMARY:ArtWorks Artisan Centre Grand Opening
DESCRIPTION:Join the Grand Opening Celebration of ArtWorks new location 232B Chatuge Way in the Hiawassee Business Center. Ribbon Cutting at 11 am. Meet our artisans and register for a gift certificate drawing.
X-ALT-DESC;FMTTYPE=text/html:Join the Grand Opening Celebration of ArtWorks new location 232B Chatuge Way in the Hiawassee Business Center. Ribbon Cutting at 11 am. Meet our artisans and register for a gift certificate drawing.
LOCATION:232 B Chatuge Way Hiawassee Business Center Hiawassee\, GA
UID:e.256.27532
SEQUENCE:3
DTSTAMP:20260424T045439Z
URL:https://members.visitblairsvillega.com/events/details/artworks-artisan-centre-grand-opening-10-24-2014-27532
END:VEVENT

END:VCALENDAR
