BEGIN:VCALENDAR
VERSION:2.0
PRODID:-//ChamberMaster//Event Calendar 2.0//EN
METHOD:PUBLISH
X-PUBLISHED-TTL:P3D
REFRESH-INTERVAL:P3D
CALSCALE:GREGORIAN
BEGIN:VEVENT
DTSTART:20150219T000000Z
DTEND:20150219T011500Z
X-MICROSOFT-CDO-ALLDAYEVENT:FALSE
SUMMARY:Ash Wednesday Worship
DESCRIPTION:Join us for Ash Wednesday worship \n"Broken Hearts" (Joel 2:12-14)\n\nOur hearts are broken in sorrow over sin\; Christ restores our hearts through his forgiveness.\n\n\n\nImposition of the Ashes and Holy Communion
X-ALT-DESC;FMTTYPE=text/html:<h1 style="font-style: italic\;"><span style="font-size:16px\;"><span style="font-family: verdana\;"><strong>Join us for Ash Wednesday worship </strong></span></span></h1>\n<span style="font-family: verdana\;"><span style="font-size:16px\;"><strong>&quot\;Broken Hearts&quot\; (Joel 2:12-14)</strong></span><br />\nOur hearts are broken in sorrow over sin\; Christ restores our hearts through his forgiveness.<br />\n<br />\nImposition of the Ashes and Holy Communion</span>
LOCATION:All Saints Lutheran Church 83 Earl Shelton Road Blairsville\, GA 30512 We are located off Hwy. 76 (515) 4.5 miles East of the Blairsville Post Office.
UID:e.256.36920
SEQUENCE:3
DTSTAMP:20260423T225647Z
URL:https://members.visitblairsvillega.com/events/details/ash-wednesday-worship-02-18-2015-36920
END:VEVENT

END:VCALENDAR
