BEGIN:VCALENDAR
VERSION:2.0
PRODID:-//ChamberMaster//Event Calendar 2.0//EN
METHOD:PUBLISH
X-PUBLISHED-TTL:P3D
REFRESH-INTERVAL:P3D
CALSCALE:GREGORIAN
BEGIN:VEVENT
DTSTART:20151006T123000Z
DTEND:20151006T133000Z
X-MICROSOFT-CDO-ALLDAYEVENT:FALSE
SUMMARY:ASK THE VET
DESCRIPTION:Lake Chatuge Animal Hospital & Tri-County Animal Clinic announce the new radio show "ASK THE VET"  hosting Dr. Hilty Burr and Dr. Jim McClearen.  A listener can call into "ASK THE VET" radio show and ask the Vet any animal care questions. \n\nCall into WCNG 102.7 FM from Murphy 828-837-9264 \, Blairsville 706-745 -9264\, or Hiawassee 706-896-9264.
X-ALT-DESC;FMTTYPE=text/html:<span style="font-size: 12pt\;"><span style="font-family: arial\,sans-serif\;">Lake Chatuge Animal Hospital &amp\; Tri-County Animal Clinic announce the new radio show &rdquo\;ASK THE VET&rdquo\; &nbsp\;hosting Dr. Hilty Burr and Dr. Jim McClearen</span></span>.&nbsp\;&nbsp\;<span style="font-size: 12pt\;"><span style="font-family: arial\,sans-serif\;">A listener can call into &ldquo\;ASK THE VET&rdquo\; radio show and ask the Vet any animal care questions. </span></span><br />\n<span style="font-size: 12pt\;"><span style="font-family: arial\,sans-serif\;">Call into WCNG 102.7 FM from Murphy 828-837-9264 \, Blairsville 706-745 -9264\, or Hiawassee 706-896-9264.&nbsp\;</span></span><br />\n&nbsp\;<br />\n
LOCATION:Call into WCNG 102.7 FM from Murphy 828-837-9264 \, Blairsville 706-745 -9264\, or Hiawassee 706-896-9264.
UID:e.256.21739
SEQUENCE:3
DTSTAMP:20260423T115603Z
URL:https://members.visitblairsvillega.com/events/details/ask-the-vet-10-06-2015-21739
END:VEVENT

END:VCALENDAR
