BEGIN:VCALENDAR
VERSION:2.0
PRODID:-//ChamberMaster//Event Calendar 2.0//EN
METHOD:PUBLISH
X-PUBLISHED-TTL:P3D
REFRESH-INTERVAL:P3D
CALSCALE:GREGORIAN
BEGIN:VEVENT
DTSTART:20150217T193000Z
DTEND:20150217T210000Z
X-MICROSOFT-CDO-ALLDAYEVENT:FALSE
SUMMARY:Attorney J. Kevin Tharpe's Elder Law Seminar at Brasstown Manor
DESCRIPTION:"ARE YOU WORRIED ABOUT THE FUTURE & WHAT LIES AHEAD?"  \n\nJOIN US!\n\nIn the Bradford room at Brasstown Manor on February 17th at 2:30pm for Elder Law Seminar\n\nbrought to us by Attorney J. Kevin Tharpe.\n\nWe are excited to invite all of or residents\, their family members\,\n\nand the general public to attend this OPEN event!\n\nAttorney Tharpe will be offering FREE legal advise addressing:\n\nThe Myths & Mysteries which surround Elder Law\,\n\n&  Special Needs and Estate Planning\, Medicare\, Medicaide\,\n\nLong-Term Care\, Alzheimer's and Estate planning\,\n\nWills\, Guardianships\, and so much more.\n\n \n\nWe guarantee you will be glad you didn't miss out on hearing from\n\nthe lawyer who has experienced the same concerns with his family.\n\nR.S.V.P. by Friday\, February 13th at (706) 896   4285.
X-ALT-DESC;FMTTYPE=text/html:<div style="text-align: center\;"><span style="font-size: 14px\;"><span style="font-family: impact\;">&ldquo\;ARE YOU WORRIED ABOUT THE FUTURE &amp\; WHAT LIES AHEAD?&rdquo\; &hellip\;</span><br />\n<span style="font-family: palatino\;">JOIN US!</span><br />\n<span style="font-family: palatino\;">In the Bradford room at Brasstown Manor on February 17<sup>th</sup> at 2:30pm for Elder Law Seminar<br />\nbrought to us by Attorney J. Kevin Tharpe.</span><br />\n<span style="font-family: palatino\;">We are excited to invite all of or residents\, their family members\,<br />\nand the general public to attend this OPEN event!</span><br />\n<span style="font-family: palatino\;">Attorney Tharpe will be offering FREE legal advise addressing:<br />\nThe Myths &amp\; Mysteries which surround Elder Law\,<br />\n&amp\; &nbsp\;Special Needs and Estate Planning\, Medicare\, Medicaide\,<br />\nLong-Term Care\, Alzheimer&rsquo\;s and Estate planning\,<br />\nWills\, Guardianships\, and so much more.</span><br />\n&nbsp\;<br />\n<span style="font-family: palatino\;">We guarantee you will be glad you didn&rsquo\;t miss out on hearing from<br />\nthe lawyer who has experienced the same concerns with his family.</span><br />\n<span style="font-family: palatino\;">R.S.V.P. by Friday\, February 13<sup>th</sup> at (706) 896 &ndash\; 4285.</span></span></div>\n
LOCATION:Brasstown Manor 108 Church Street Hiawassee\, GA 30546
UID:e.256.37074
SEQUENCE:3
DTSTAMP:20260423T230339Z
URL:https://members.visitblairsvillega.com/events/details/attorney-j-kevin-tharpe-s-elder-law-seminar-at-brasstown-manor-02-17-2015-37074
END:VEVENT

END:VCALENDAR
