BEGIN:VCALENDAR
VERSION:2.0
PRODID:-//ChamberMaster//Event Calendar 2.0//EN
METHOD:PUBLISH
X-PUBLISHED-TTL:P3D
REFRESH-INTERVAL:P3D
CALSCALE:GREGORIAN
BEGIN:VEVENT
DTSTART:20150521T230000Z
DTEND:20150522T010000Z
X-MICROSOFT-CDO-ALLDAYEVENT:FALSE
SUMMARY:Aubrey Atwater at John C. Campbell Folk School
DESCRIPTION:Aubrey Atwater - captivating traditional & original music and clogging
X-ALT-DESC;FMTTYPE=text/html:<div>Aubrey Atwater - captivating traditional &amp\; original music and clogging</div>\n
LOCATION:Community Room at John C. Campbell Folk School Brasstown\, NC 28902
UID:e.256.37732
SEQUENCE:3
DTSTAMP:20260423T182525Z
URL:https://members.visitblairsvillega.com/events/details/aubrey-atwater-at-john-c-campbell-folk-school-05-21-2015-37732
END:VEVENT

END:VCALENDAR
