BEGIN:VCALENDAR
VERSION:2.0
PRODID:-//ChamberMaster//Event Calendar 2.0//EN
METHOD:PUBLISH
X-PUBLISHED-TTL:P3D
REFRESH-INTERVAL:P3D
CALSCALE:GREGORIAN
BEGIN:VEVENT
DTSTART:20150320T230000Z
DTEND:20150321T010000Z
X-MICROSOFT-CDO-ALLDAYEVENT:FALSE
SUMMARY:Auction of Market Hogs & Small Animals
DESCRIPTION:Sponsored By Union County FFA\; Consignments Accepted: Anyone Can Buy or Sell\; SALE TO INCLUDE SLAUGHTER READY MARKET HOGS\, SMALL ANIMALS AS WELL AS MISC. FARM EQUIPMENT on Saturday March 21st. MARKET HOGS AND SMALL ANIMALS CHECK-IN AT 5:00 PM ON FRIDAY AND SELL ON FIRST COME-FIRST SERVE BASIS. COMMISSION RATES: COMMISSION IS FIGURED ON EACH ITEM\, 10% ACROSS THE BOARD\, $750 MAXIMUM COMMISSION PER ITEM. ALL PURCHASES MUST BE SETTLED PRIOR TO LOADOUT. *UNION COUNTY SCHOOLS\, UNION COUNTY FFA\, BLUE AND GOLD AUCTIONS OR UNION COUNTY FARMERS MARKET ARE NOT RESPONSIBLE FOR ACCIDENTS\, INJURIES\, OR THEFT.
X-ALT-DESC;FMTTYPE=text/html:Sponsored By Union County FFA\; Consignments Accepted: Anyone Can Buy or Sell\; SALE TO INCLUDE SLAUGHTER READY MARKET HOGS\, SMALL ANIMALS AS WELL AS MISC. FARM EQUIPMENT on Saturday March 21st. MARKET HOGS AND SMALL ANIMALS CHECK-IN AT 5:00 PM ON FRIDAY AND SELL ON FIRST COME-FIRST SERVE BASIS. COMMISSION RATES: COMMISSION IS FIGURED ON EACH ITEM\, 10% ACROSS THE BOARD\, $750 MAXIMUM COMMISSION PER ITEM. ALL PURCHASES MUST BE SETTLED PRIOR TO LOADOUT. *UNION COUNTY SCHOOLS\, UNION COUNTY FFA\, BLUE AND GOLD AUCTIONS OR UNION COUNTY FARMERS MARKET ARE NOT RESPONSIBLE FOR ACCIDENTS\, INJURIES\, OR THEFT.
LOCATION:Union County High School Ag Barn 153 Panther Circle Blairsville\, GA 30512
UID:e.256.37683
SEQUENCE:3
DTSTAMP:20260423T230120Z
URL:https://members.visitblairsvillega.com/events/details/auction-of-market-hogs-small-animals-03-20-2015-37683
END:VEVENT

END:VCALENDAR
