BEGIN:VCALENDAR
VERSION:2.0
PRODID:-//ChamberMaster//Event Calendar 2.0//EN
METHOD:PUBLISH
X-PUBLISHED-TTL:P3D
REFRESH-INTERVAL:P3D
CALSCALE:GREGORIAN
BEGIN:VEVENT
DTSTART:20140321T230000Z
DTEND:20140322T020000Z
X-MICROSOFT-CDO-ALLDAYEVENT:FALSE
SUMMARY:Audio Adrenaline & Kutless ? Change a Life Tour
DESCRIPTION:Five years ago\, the band gathered in Hawaii along with their biggest fans for what they thought was their last performance. Since that emotional finale concert\, founding members Mark Stuart and Will McGinniss have tirelessly worked to raise awareness and support for the 100 orphans currently being cared for in Jacmel and Grand Goave\, Haiti. Now\, with additional new band members and a larger mission goal\, there is no question the world is ready for the "new" Audio Adrenaline. Stuart and McGinniss are still very much a part of the re-formed band. McGinniss continues his role as the band's bassist while Stuart\, although stepping down as lead vocalist due to his spasmodic dysphonia\, causing involuntary muscle spasms of the larynx\, is very much a part of band decisions and writing on many of the songs for the new album. Taking over lead vocals is former dcTalk member and industry mainstay Kevin Max\, while CCM vets Dwayne Larring (Sonicflood) is on guitar\, and Jared Byers (Bleach) on drums. "I've never been more excited about an Audio A record\," shares Stuart. "We've collectively poured into each song for months\, and I love every track. Being able to help write and direct the process of putting the band back together has been an absolute joy. I can't wait to see our fans sing along with Kevin on the AA classics and fall in love with the new songs. "As just released in Billboard\, the brand new album is slated to release March 2013. The first single\, "Kings And Queens\," will hit Christian radio in November. "It's just an incredible song about this idea of when we love the least of these\, God wraps these little orphans in his majesty and they can become kings and queens\," Stuart says of the song. "It gives you that idea that these are God's favorites\, these little kids that have been forgotten. There's going to be a special place in heaven one day because of what they've been through here. It's just a triumphant\, majestic song that just connects so deeply with Hands & Feet and the message of Audio A right now. "When the decision was made to re-launch the group\, there was a lot of thought to who would be the right selection to carry on the mantle of lead vocalist for Audio Adrenaline. When conversations were had with the band's new manager\, Wes Campbell of First Company Management\, the idea was raised to talk to Kevin Max\, a long-time friend of the band. Most of all\, Max understands the passion for orphan care and Hands & Feet because he\, just like many of the children at Hands & Feet Project\, had been orphaned as a small child. McGinniss shares\, "We have joined together under the new banner of Audio Adrenaline\, yet the common thread that brings all of us together is for a much greater reason. We are beyond excited to finally share why we are putting the band back together.
X-ALT-DESC;FMTTYPE=text/html:Five years ago\, the band gathered in Hawaii along with their biggest fans for what they thought was their last performance. Since that emotional finale concert\, founding members Mark Stuart and Will McGinniss have tirelessly worked to raise awareness and support for the 100 orphans currently being cared for in Jacmel and Grand Goave\, Haiti. Now\, with additional new band members and a larger mission goal\, there is no question the world is ready for the &quot\;new&quot\; Audio Adrenaline. Stuart and McGinniss are still very much a part of the re-formed band. McGinniss continues his role as the band&#39\;s bassist while Stuart\, although stepping down as lead vocalist due to his spasmodic dysphonia\, causing involuntary muscle spasms of the larynx\, is very much a part of band decisions and writing on many of the songs for the new album. Taking over lead vocals is former dcTalk member and industry mainstay Kevin Max\, while CCM vets Dwayne Larring (Sonicflood) is on guitar\, and Jared Byers (Bleach) on drums. &quot\;I&#39\;ve never been more excited about an Audio A record\,&quot\; shares Stuart. &quot\;We&#39\;ve collectively poured into each song for months\, and I love every track. Being able to help write and direct the process of putting the band back together has been an absolute joy. I can&#39\;t wait to see our fans sing along with Kevin on the AA classics and fall in love with the new songs. &quot\;As just released in Billboard\, the brand new album is slated to release March 2013. The first single\, &quot\;Kings And Queens\,&quot\; will hit Christian radio in November. &quot\;It&#39\;s just an incredible song about this idea of when we love the least of these\, God wraps these little orphans in his majesty and they can become kings and queens\,&quot\; Stuart says of the song. &quot\;It gives you that idea that these are God&#39\;s favorites\, these little kids that have been forgotten. There&#39\;s going to be a special place in heaven one day because of what they&#39\;ve been through here. It&#39\;s just a triumphant\, majestic song that just connects so deeply with Hands &amp\; Feet and the message of Audio A right now. &quot\;When the decision was made to re-launch the group\, there was a lot of thought to who would be the right selection to carry on the mantle of lead vocalist for Audio Adrenaline. When conversations were had with the band&#39\;s new manager\, Wes Campbell of First Company Management\, the idea was raised to talk to Kevin Max\, a long-time friend of the band. Most of all\, Max understands the passion for orphan care and Hands &amp\; Feet because he\, just like many of the children at Hands &amp\; Feet Project\, had been orphaned as a small child. McGinniss shares\, &quot\;We have joined together under the new banner of Audio Adrenaline\, yet the common thread that brings all of us together is for a much greater reason. We are beyond excited to finally share why we are putting the band back together.
LOCATION:The Smoky Mountain Center for the Performing Arts
UID:e.256.23235
SEQUENCE:3
DTSTAMP:20260424T153053Z
URL:https://members.visitblairsvillega.com/events/details/audio-adrenaline-kutless-change-a-life-tour-03-21-2014-23235
END:VEVENT

END:VCALENDAR
