BEGIN:VCALENDAR
VERSION:2.0
PRODID:-//ChamberMaster//Event Calendar 2.0//EN
METHOD:PUBLISH
X-PUBLISHED-TTL:P3D
REFRESH-INTERVAL:P3D
CALSCALE:GREGORIAN
BEGIN:VEVENT
DTSTART:20140726T140000Z
DTEND:20140726T170000Z
X-MICROSOFT-CDO-ALLDAYEVENT:FALSE
SUMMARY:Audition for Licklog Players "Piece of my Heart"
DESCRIPTION:Audition for Licklog Players "Piece of my Heart" will take place on Saturday July 26th from 10am-1pm and Monday July 28th at 7pm at the Creekside Plaza Theater (across from the ABC store) in Hayesville. One male and five female are needed. For more information call 828-389-8632 or email licklogplayers@aol.com. Licklog Players\, Inc 828-389-8632 www.licklogplayers.org
X-ALT-DESC;FMTTYPE=text/html:Audition for Licklog Players &quot\;Piece of my Heart&quot\; will take place on <strong>Saturday July 26th from 10am-1pm</strong> and <strong>Monday July 28th at&nbsp\;7pm </strong>at the Creekside Plaza Theater (across from the ABC store) in Hayesville. One male and five female are needed. For more information call 828-389-8632 or email licklogplayers@aol.com. Licklog Players\, Inc 828-389-8632 www.licklogplayers.org
LOCATION:Licklog Players Theater Creekside Plaza across from ABC store Hayesville
UID:e.256.25402
SEQUENCE:3
DTSTAMP:20260424T105754Z
URL:https://members.visitblairsvillega.com/events/details/audition-for-licklog-players-piece-of-my-heart-07-26-2014-25402
END:VEVENT

END:VCALENDAR
