BEGIN:VCALENDAR
VERSION:2.0
PRODID:-//ChamberMaster//Event Calendar 2.0//EN
METHOD:PUBLISH
X-PUBLISHED-TTL:P3D
REFRESH-INTERVAL:P3D
CALSCALE:GREGORIAN
BEGIN:VEVENT
DTSTART:20140503T160000Z
DTEND:20140503T160000Z
X-MICROSOFT-CDO-ALLDAYEVENT:FALSE
SUMMARY:Audition for Licklog Players Production " I Hate Hamlet"
DESCRIPTION:Audition for Licklog Players Production " I Hate Hamlet" will take place on Saturday\, May 3rd from 10am-1pm and May 5th from 7pm-9pm at Creekside Plaza Theater ( across from the ABC store) in Hayesville\, NC. call 828-389-8632 or e-mail licklogplayers@aol.com.
X-ALT-DESC;FMTTYPE=text/html:Audition for Licklog Players Production &quot\; I Hate Hamlet&quot\; will take place on <em><strong>Saturday\, May 3rd from 10am-1pm and May 5th from 7pm-9pm</strong></em> at Creekside Plaza Theater ( across from the ABC store) in Hayesville\, NC. call 828-389-8632 or e-mail licklogplayers@aol.com.
LOCATION:Licklog Theater Creekside Plaza Hayesville\, NC
UID:e.256.24251
SEQUENCE:3
DTSTAMP:20260424T122204Z
URL:https://members.visitblairsvillega.com/events/details/audition-for-licklog-players-production-i-hate-hamlet-05-03-2014-24251
END:VEVENT

END:VCALENDAR
