BEGIN:VCALENDAR
VERSION:2.0
PRODID:-//ChamberMaster//Event Calendar 2.0//EN
METHOD:PUBLISH
X-PUBLISHED-TTL:P3D
REFRESH-INTERVAL:P3D
CALSCALE:GREGORIAN
BEGIN:VEVENT
DTSTART:20140607T140000Z
DTEND:20140607T170000Z
X-MICROSOFT-CDO-ALLDAYEVENT:FALSE
SUMMARY:Audition for "Smoke on the Mountain"
DESCRIPTION:Audition for Licklog Players Production of the musical comedy "Smoke on the Mountian" will take place on June 7th\, 10am-1pm and June 9th\, 7pm 9pm at the Creekside Plaza Theater (across from the ABC store) in Hayesville\, NC. Musicians needed who can act and sing. For more information call 828-389-8632 or e-mail licklogplayers@aol.com Licklog Players\, Inc 828-389-8632 www.licklogplayers.org
X-ALT-DESC;FMTTYPE=text/html:Audition for Licklog Players Production of the musical comedy &quot\;Smoke on the Mountian&quot\; will take place on <strong>June 7th\, 10am-1pm and June 9th\, 7pm 9pm </strong>at the Creekside Plaza Theater (across from the ABC store) in Hayesville\, NC. Musicians needed who can act and sing. For more information call 828-389-8632 or e-mail licklogplayers@aol.com Licklog Players\, Inc 828-389-8632 www.licklogplayers.org
LOCATION:Creekside Plaza Theater (across from the ABC store) in Hayesville\, NC.
UID:e.256.24578
SEQUENCE:3
DTSTAMP:20260424T105030Z
URL:https://members.visitblairsvillega.com/events/details/audition-for-smoke-on-the-mountain-06-07-2014-24578
END:VEVENT

END:VCALENDAR
