BEGIN:VCALENDAR
VERSION:2.0
PRODID:-//ChamberMaster//Event Calendar 2.0//EN
METHOD:PUBLISH
X-PUBLISHED-TTL:P3D
REFRESH-INTERVAL:P3D
CALSCALE:GREGORIAN
BEGIN:VEVENT
DTSTART:20150314T140000Z
DTEND:20150314T170000Z
X-MICROSOFT-CDO-ALLDAYEVENT:FALSE
SUMMARY:Audition's for the Licklog Player's first show of 2015
DESCRIPTION:Auditions for Licklog Player's first show of 2015\, the hallelujah Girls\, an uproarious Southern comedy.  Six women and 2 men are needed.  the show will open April 17-19 & 24-26 2015
X-ALT-DESC;FMTTYPE=text/html:Auditions for Licklog Player&#39\;s first show of 2015\, the hallelujah Girls\, an uproarious Southern comedy.&nbsp\; Six women and 2 men are needed.&nbsp\; the show will open April 17-19 &amp\; 24-26 2015
LOCATION:Licklog's Blackbox Theater 34 Creekside Circle Hayesville\, NC
UID:e.256.37670
SEQUENCE:3
DTSTAMP:20260423T230223Z
URL:https://members.visitblairsvillega.com/events/details/audition-s-for-the-licklog-player-s-first-show-of-2015-03-14-2015-37670
END:VEVENT

END:VCALENDAR
