BEGIN:VCALENDAR
VERSION:2.0
PRODID:-//ChamberMaster//Event Calendar 2.0//EN
METHOD:PUBLISH
X-PUBLISHED-TTL:P3D
REFRESH-INTERVAL:P3D
CALSCALE:GREGORIAN
BEGIN:VEVENT
DTSTART;VALUE=DATE:20140106
DTEND;VALUE=DATE:20140107
TRANSP:TRANSPARENT
X-MICROSOFT-CDO-ALLDAYEVENT:TRUE
SUMMARY:Auditions for Licklog Players "Love Letters"
DESCRIPTION:Auditions for Licklog Players' "Love Letters" will take place on Saturday January 4th at 10am-1pm\, January 6th at 7pm at the Creekside Plaza Theater (across from the ABC store) in Hayesville. Call 828-389-8632 or email licklogplayers@aol.com for further information. Licklog Players\, Inc 828-389-8632 www.licklogplayers.org
X-ALT-DESC;FMTTYPE=text/html:Auditions for Licklog Players&#39\; &quot\;Love Letters&quot\; will take place on Saturday January 4th at 10am-1pm\, January 6th at 7pm at the Creekside Plaza Theater (across from the ABC store) in Hayesville. Call 828-389-8632 or email licklogplayers@aol.com for further information. Licklog Players\, Inc 828-389-8632 www.licklogplayers.org 
LOCATION:Licklog Theater Creekside Plaza Theater (across from the ABC store) Hayesville\, NC
UID:e.256.20942
SEQUENCE:3
DTSTAMP:20260424T181437Z
URL:https://members.visitblairsvillega.com/events/details/auditions-for-licklog-players-love-letters-01-06-2014-20942
END:VEVENT

END:VCALENDAR
