BEGIN:VCALENDAR
VERSION:2.0
PRODID:-//ChamberMaster//Event Calendar 2.0//EN
METHOD:PUBLISH
X-PUBLISHED-TTL:P3D
REFRESH-INTERVAL:P3D
CALSCALE:GREGORIAN
BEGIN:VEVENT
DTSTART:20150330T230000Z
DTEND:20150331T010000Z
X-MICROSOFT-CDO-ALLDAYEVENT:FALSE
SUMMARY:Auditions for upcoming Licklog event
DESCRIPTION:Auditions for Desserts and Comedy\, males and females are needed-teenagers and up are needed.  We also welcome any bakers or bakeries to inquire on how they can participate and get exposure for their business through this event.
X-ALT-DESC;FMTTYPE=text/html:Auditions for Desserts and Comedy\, males and females are needed-teenagers and up are needed.&nbsp\; We also welcome any bakers or bakeries to inquire on how they can participate and get exposure for their business through this event.
LOCATION:Licklog's Blackbox Theater 34 Creekside Circle Hayesville\, NC
UID:e.256.37671
SEQUENCE:3
DTSTAMP:20260423T224339Z
URL:https://members.visitblairsvillega.com/events/details/auditions-for-upcoming-licklog-event-03-30-2015-37671
END:VEVENT

END:VCALENDAR
