BEGIN:VCALENDAR
VERSION:2.0
PRODID:-//ChamberMaster//Event Calendar 2.0//EN
METHOD:PUBLISH
X-PUBLISHED-TTL:P3D
REFRESH-INTERVAL:P3D
CALSCALE:GREGORIAN
BEGIN:VEVENT
DTSTART:20140913T140000Z
DTEND:20140913T170000Z
X-MICROSOFT-CDO-ALLDAYEVENT:FALSE
SUMMARY:Auditions for "Voice and Tell-tale Heart"
DESCRIPTION:Auditions for Licklog Players Production of "Voice and Tell-tale Heart" will be held on Saturday\, September 13th\, 10am-1pm and on Monday\, September 15th from 7pm-9pm. Men\, women and children are needed. Auditions will take place at the Theater across from the ABC store in Hayesville N.C. For more information call 828-389-8632 or e-mail licklogplayers@aol.com Licklog Players\, Inc 828-389-8632 www.licklogplayers.org
X-ALT-DESC;FMTTYPE=text/html:Auditions for Licklog Players Production of &quot\;Voice and Tell-tale Heart&quot\; will be held on <strong>Saturday\, September 13th\, 10am-1pm </strong>and on <strong>Monday\, September 15th from 7pm-9pm. </strong>Men\, women and children are needed. Auditions will take place at the Theater across from the ABC store in Hayesville N.C. For more information call 828-389-8632 or e-mail licklogplayers@aol.com Licklog Players\, Inc 828-389-8632 www.licklogplayers.org
LOCATION:Licklog Players Hayesville\, NC
UID:e.256.27305
SEQUENCE:3
DTSTAMP:20260424T063110Z
URL:https://members.visitblairsvillega.com/events/details/auditions-for-voice-and-tell-tale-heart-09-13-2014-27305
END:VEVENT

END:VCALENDAR
