BEGIN:VCALENDAR
VERSION:2.0
PRODID:-//ChamberMaster//Event Calendar 2.0//EN
METHOD:PUBLISH
X-PUBLISHED-TTL:P3D
REFRESH-INTERVAL:P3D
CALSCALE:GREGORIAN
BEGIN:VEVENT
DTSTART:20140512T230000Z
DTEND:20140513T010000Z
X-MICROSOFT-CDO-ALLDAYEVENT:FALSE
SUMMARY:Auditions Oklahoma! Smoky Mountain Center for the Performing Arts
DESCRIPTION:Auditions & Community Meeting at the Smoky Mountain Center for the Performing Arts Rodgers & Hammerstein's Oklahoma! Auditions May 12 & 13 7:00 PM Whether you are a veteran performer or an enthusiastic newcomer\, we would like to encourage you to audition for Oklahoma! We look forward to seeing you on stage. Break a leg!
X-ALT-DESC;FMTTYPE=text/html:Auditions &amp\; Community Meeting at the Smoky Mountain Center for the Performing Arts Rodgers &amp\; Hammerstein&#39\;s Oklahoma! Auditions May 12 &amp\; 13 7:00 PM Whether you are a veteran performer or an enthusiastic newcomer\, we would like to encourage you to audition for Oklahoma! We look forward to seeing you on stage. Break a leg!
LOCATION:Smoky Mountain Center for the Performing Arts 1028 Georgia Road Franklin\, NC 28734
UID:e.256.24287
SEQUENCE:3
DTSTAMP:20260424T133928Z
URL:https://members.visitblairsvillega.com/events/details/auditions-oklahoma-smoky-mountain-center-for-the-performing-arts-05-12-2014-24287
END:VEVENT

END:VCALENDAR
