BEGIN:VCALENDAR
VERSION:2.0
PRODID:-//ChamberMaster//Event Calendar 2.0//EN
METHOD:PUBLISH
X-PUBLISHED-TTL:P3D
REFRESH-INTERVAL:P3D
CALSCALE:GREGORIAN
BEGIN:VEVENT
DTSTART:20160319T180000Z
DTEND:20160319T200000Z
X-MICROSOFT-CDO-ALLDAYEVENT:FALSE
SUMMARY:Author Book Signing at Cabin Coffee
DESCRIPTION:Author Craig Bush will be reading selections from his book\, An Unlikely Saviour\, and autographing copies.  An Unlikely Saviour is a murder mystery which takes place in our own Blairsville on Booger Hollow Road.
X-ALT-DESC;FMTTYPE=text/html:Author Craig Bush will be reading selections from his book\, An Unlikely Saviour\, and autographing copies.&nbsp\; An Unlikely Saviour is a murder mystery which takes place in our own Blairsville on Booger Hollow Road.&nbsp\;
LOCATION:Cabin Coffee of Blairsville
UID:e.256.49997
SEQUENCE:3
DTSTAMP:20260421T022023Z
URL:https://members.visitblairsvillega.com/events/details/author-book-signing-at-cabin-coffee-03-19-2016-49997
END:VEVENT

END:VCALENDAR
