BEGIN:VCALENDAR
VERSION:2.0
PRODID:-//ChamberMaster//Event Calendar 2.0//EN
METHOD:PUBLISH
X-PUBLISHED-TTL:P3D
REFRESH-INTERVAL:P3D
CALSCALE:GREGORIAN
BEGIN:VEVENT
DTSTART:20150711T180000Z
DTEND:20150711T200000Z
X-MICROSOFT-CDO-ALLDAYEVENT:FALSE
SUMMARY:Author Book Signing: Nancy Carter
DESCRIPTION:Cabin Coffee will host a book signing event with Nancy Carter\, author of The Telegram on Saturday\, July 11th from 2:00 to 4:00 p.m.  The Telegram\, Book 1 - The Story of Charles Schultz\, is a Christian historical novel set in the Appalachian Mountains of West Virginia in the early 1900's.  This is the first in a series about Charles Schultz\, Nancy's paternal grandfather.
X-ALT-DESC;FMTTYPE=text/html:<span style="font-size:11pt"><span style="font-family:calibri\,sans-serif">Cabin Coffee will host a book signing event with Nancy Carter\, author of The Telegram on Saturday\, July 11th from 2:00 to 4:00 p.m.&nbsp\; The Telegram\, Book 1 - The Story of Charles Schultz\, is a Christian historical novel set in the Appalachian Mountains of West Virginia in the early 1900&#39\;s.&nbsp\; This is the first in a series about Charles Schultz\, Nancy&#39\;s paternal grandfather.&nbsp\;&nbsp\; </span></span>
LOCATION:Cabin Coffee on Blairsville Town Square
UID:e.256.40644
SEQUENCE:3
DTSTAMP:20260423T151210Z
URL:https://members.visitblairsvillega.com/events/details/author-book-signing-nancy-carter-07-11-2015-40644
END:VEVENT

END:VCALENDAR
